BEGIN:VCALENDAR
PRODID:-//eluceo/ical//2.0/EN
VERSION:2.0
CALSCALE:GREGORIAN
BEGIN:VEVENT
UID:15e2e384e50fed101c1fb419794f1b80
DTSTAMP:20260423T125212Z
SUMMARY:Webinar: Navigating the Digitalisation Journey: Empowering SMEs in 
 the Manufacturing Sector
DESCRIPTION:Název akce: Webinar: Navigating the Digitalisation Journey: Em
 powering SMEs in the Manufacturing Sector\nURL: https://www.spcr.cz/webina
 r-navigating-digitalisation-journey-empowering-smes-manufacturing-sector\n
 Popis: \n\nIn today’s competitive landscape\, small and medium-sized ent
 erprises (SMEs) in the manufacturing sector are faced with the imperative 
 to embrace digitalisation as a means to drive growth and sustainability. W
 hether capitalising on cost efficiencies or harnessing the power of unique
  product offerings\, SME manufacturers are recognising the pivotal role of
  digitalisation in shaping their future trajectory. It is no longer a matt
 er of choice\, but a strategic necessity for professional managers to char
 t a course towards digital transformation. The questions that loom large a
 re where to begin and how much to invest\, among other crucial considerati
 ons.\nIn light of this pressing need\, we are thrilled to announce the upc
 oming hybrid workshop “Navigating the Digitalisation Journey: Empowering
  SMEs in the Manufacturing Sector.” This event is tailored to cater to t
 he specific needs of small and medium-sized enterprises\, offering a platf
 orm for industry leaders and professionals to delve into the intricacies o
 f digitalisation within the manufacturing realm.\nDigitalisation Journeys 
 for SMEs\nWith a keen focus on the digitalisation progress of SMEs in the 
 manufacturing sector\, our event aims to bring together representatives fr
 om SMEs to share insights\, experiences\, and best practices in their digi
 talisation journeys. Participants can expect to gain valuable knowledge on
  the necessity of digitalisation for SMEs in the manufacturing industry\, 
 the essential steps for embarking on a digital transformation\, and real-w
 orld case studies highlighting successful digitalisation practices.\nThe e
 vent will serve as a forum for open dialogue\, knowledge exchange\, and ne
 tworking opportunities\, allowing attendees to connect with like-minded pr
 ofessionals and gain inspiration from the success stories of their peers. 
 Through engaging panel discussions\, interactive workshops\, and expert pr
 esentations\, participants will be equipped with the practical guidance an
 d strategic insights needed to propel their organizations towards digital 
 maturity.\nJoin us as we embark on a collective exploration of the digital
 isation landscape\, empowering SMEs in the manufacturing sector to seize t
 he opportunities presented by the digital age. Together\, let us unravel t
 he complexities\, embrace the possibilities\, and pave the way for a thriv
 ing digital future in manufacturing.\nThis free event is organised by the 
 EU SME Centre and the European Union Chamber of Commerce in China. It is 
 open to all SMEs from EU Member States and countries participating in the 
 Single Market Programme (Iceland\, Liechtenstein\, Norway).\nRegistration 
 HERE. \nAgenda (Beijing Time)\n\n15:30 – 16:00\nRegistration at the ven
 ueFor onsite participants in Tianjin\n\n16:00 – 16:10\nOpening remarksLi
 am Jia\, Team Lead\, EU SME CentreCatherine Guo\, General Manager\, Euro
 pean Chamber Tianjin Chapter\n\n16:10 – 16:30\nRoad to the Future – Ho
 w Can SMEs Prepare for the New Digital EraLin Hao\, General Manager\, aba
 t China\n\n16:30 – 17:10\nIndustry Leaders’ Digitalisation Experiments
 : Roadmap\, Actions\, and ReflectionsJiang Nan\, General Manager\, LESER S
 afety Valve (Tianjin) Co.\, Ltd.Yang Xinyu\, Vice President\, Operations f
 or ADB Safegate in China\n\n17:10 – 17:30\nPanel Discussion: The Necessi
 ty for SMEs to Embark on a Digitalisation JourneyModerator:Liam Jia\, Tea
 m Lead\, EU SME Centre\nPanellists:Lin Hao\, General Manager\, abat China
 Jiang Nan\, General Manager\, LESER Safety Valve (Tianjin) Co.\, LtdYang 
 Xinyu\, Vice President\, Operations for ADB Safegate in China\n\n17:30 
 – 17:40\nQ&A session\n\n17:40 – 17:50\nConcluding remarks\n
URL:https://www.spcr.cz/webinar-navigating-digitalisation-journey-empowerin
 g-smes-manufacturing-sector
DTSTART:20240228T090000
DTEND:20240228T105000
LOCATION:
END:VEVENT
END:VCALENDAR
