BEGIN:VCALENDAR
PRODID:-//eluceo/ical//2.0/EN
VERSION:2.0
CALSCALE:GREGORIAN
BEGIN:VEVENT
UID:b949daabd8499bef1b3921b5dd500d2b
DTSTAMP:20260423T163005Z
SUMMARY:Webinar: Fast-Tracking International Trade: Selling and Buying on A
 libaba.com for SMEs
DESCRIPTION:Název akce: Webinar: Fast-Tracking International Trade: Sellin
 g and Buying on Alibaba.com for SMEs\nURL: https://www.spcr.cz/webinar-fas
 t-tracking-international-trade-selling-and-buying-alibabacom-smes\nPopis: 
 \n\nE-commerce platforms allow SMEs to sell and source products around the
  globe in a few clicks. That is\, in theory. Succeeding in B2B online trad
 e is more complex than first appears. In an intensely competitive environm
 ent\, sellers need to make it to the top of search results\, design impact
 ful campaigns to increase the visibility of their e-shops and products. Bu
 yers have to gain the necessary skills to conduct remote due diligence and
  find reliable partners.\nOn 27 February\, the EU SME Centre is inviting E
 uropean SMEs to sharpen their e-commerce skills in a webinar with global e
 -commerce giant Alibaba.com. During this event\, Alibaba.com Europe Genera
 l Manager Jijay Shen and Marketing Director Michela Rubegni will share the
 ir expertise and recommendations\, alongside case studies of European SMEs
 . Francesco Tamburrino\, General Manager of Rosso Fine Food Srl\, and Fynn
  Huch\, Founder and CEO of Retalos GmbH\, will give their perspectives on 
 selling and purchasing on Alibaba.com.\nThis event is free of charge and o
 pen to all small and medium-sized enterprises from EU Member States and co
 untries participating in the Single Market Programme. The webinar will be 
 held in English.\nRegistration HERE. \nAgenda (Brussels Time)\n\n9:30 –
  9:40\nOpening remarksEU SME Centre introduction – Davide Orlandi\, EU
  Partnerships Manager\, EU SME CentreAICE Introduction – David Doninott
 i\, Secretary General\, AICE\n\n9:40 – 9:50\nB2B Online Trade on Alibab
 a.com for Sellers and BuyersOverview of Alibaba.com’s activities in Euro
 pe\, facts and figures on European SMEs\, and new developments in technolo
 gical infrastructureJijay Shen\, General Manager\, Alibaba.com Europe\n\n
 9:50 – 10:10\nRecommendations for EU SMEs and Case StudiesIdentifying re
 liable B2B partners and support available to SMEsMichela Rubegni\, Market
 ing Director\, Alibaba.com Europe\nCase studies on selling and purchasing 
 on Alibaba.comFrancesco Tamburrino\, General Manager\, Rosso Fine Food Sr
 lFynn Huch\, Founder and CEO\, Retalos GmbH\n\n10:10 – 10:25\nQ&A sessi
 on\n\n10:25 – 10:30\nConcluding remarks\n
URL:https://www.spcr.cz/webinar-fast-tracking-international-trade-selling-a
 nd-buying-alibabacom-smes
DTSTART:20240227T093000
DTEND:20240227T103000
LOCATION:
END:VEVENT
END:VCALENDAR
