BEGIN:VCALENDAR
PRODID:-//eluceo/ical//2.0/EN
VERSION:2.0
CALSCALE:GREGORIAN
BEGIN:VEVENT
UID:78979913f42cfaa04ab66f26af9f280c
DTSTAMP:20260423T124850Z
SUMMARY:Webinar: Understanding Connectivity Issues Between Europe and China
DESCRIPTION:Název akce: Webinar: Understanding Connectivity Issues Between
  Europe and China\nURL: https://www.spcr.cz/webinar-understanding-connecti
 vity-issues-between-europe-and-china\nPopis: \n\nUnderstanding connectivit
 y issues in China and Asia is crucial for European companies. The complex 
 landscape of regulatory\, technical\, and cultural differences between Eur
 ope and China makes these issues difficult to navigate. By understanding a
 nd addressing connectivity issues in services such as Internet licensing\,
  cloud computing\, SASE\, cybersecurity\, and data connectivity\, companie
 s can establish a strong presence in the region and remain in compliance w
 ith the regulations. In turn\, this presence can contribute to foster succ
 essful international communication and collaboration.\nOn 21 February\, we
  are organising a webinar to delve into this topic with expert Serve Bunni
 k\, Product Director & Deputy Director of European Operations with CITIC T
 elecom CPC. This event\, to be held in English\, is free of charge and ope
 n to all small and medium-sized enterprises from EU Member States and coun
 tries participating in the Single Market Programme.\nRegistration HERE. \
 nAgenda (Brussels Time)\n\n9:00 – 9:10\nOpening remarks\n\n9:10 – 10:0
 0\nKeynote presentation by Mr Serve Bunnik\, covering the following topics
 :\n\nConnectivity service environment and international communication diff
 erences: Internet and ICP licenses\, public and private clouds\, etc.\nChi
 na Office 365 vs. Global Office 365 (SASE).\nCompliance requirements for E
 uropean SMEs: cross-border data connectivity L2\; differences between Chin
 a and Greater China (Hong Kong and Macau)\, etc.\nCultural and linguistic 
 challenges.\n\n\n10:00 – 10:30\nQ&A session\n
URL:https://www.spcr.cz/webinar-understanding-connectivity-issues-between-e
 urope-and-china
DTSTART:20240221T090000
DTEND:20240221T103000
LOCATION:
END:VEVENT
END:VCALENDAR
