BEGIN:VCALENDAR
PRODID:-//eluceo/ical//2.0/EN
VERSION:2.0
CALSCALE:GREGORIAN
BEGIN:VEVENT
UID:b987b33d662a1ce04377852696efa533
DTSTAMP:20260423T125013Z
SUMMARY:Setkání příznivců textilního průmyslu
DESCRIPTION:Název akce: Setkání příznivců textilního průmyslu\nURL:
  https://www.spcr.cz/setkani-priznivcu-textilniho-prumyslu-0\nPopis: \n\nZ
 veme vás na představení nového konceptu středoškolského textilníh
 o vzdělávání v Liberci.\nPROGRAM\nÚvodní slovo: Martin Půta\, hejtm
 an Libereckého kraje\nNová koncepce textilních oborů na Střední prů
 myslové škole v Liberci: Jaroslav Semerád\, ředitel Střední průmys
 lové školy a Vyšší odborné školy Liberec\nPodpora Libereckého kraj
 e textilním oborům: Jiří Čeřovský\, náměstek hejtmana Libereckéh
 o kraje\nPožadavky na absolventy středních škol z textilních oborů a
  možnosti spolupráce se školou:Vladimír Bajzík\, děkan Fakulty texti
 lní\, TUL\nPropojení škol a průmyslu: Libuše Fouňová\, manažerka C
 LUTEX – klastr technické textilie\nPraktické uplatnění absolventů v
 e firemním prostředí: zástupci Adient Czech Republic k.s.\, Drylock T
 echnologies s.r.o.\, VÚTS a.s. a Elmarco s.r.o.\nZkušenosti absolventů 
 po zapojení do reálné praxe\n10.00 - 13.00 prezenční část a oběd\,
  od 13.00 přesun a následná exkurze budovy\, kde probíhá výuka text
 ilních oborů\, a networking.Možnost registrace do 5. března ZDE.\nPozv
 ánka zde\n
URL:https://www.spcr.cz/setkani-priznivcu-textilniho-prumyslu-0
DTSTART:20240313T100000
DTEND:20240313T140000
LOCATION:
END:VEVENT
END:VCALENDAR
