BEGIN:VCALENDAR
PRODID:-//eluceo/ical//2.0/EN
VERSION:2.0
CALSCALE:GREGORIAN
BEGIN:VEVENT
UID:439954073491ce8f84801520bee69e84
DTSTAMP:20260423T125219Z
SUMMARY:Setkání majitelů rodinných firem
DESCRIPTION:Název akce: Setkání majitelů rodinných firem\nURL: https:/
 /www.spcr.cz/setkani-majitelu-rodinnych-firem\nPopis: \n\nEKP Advisory vá
 s zve na setkání majitelů a zakladatelů rodinných firem dne 21. 3. 20
 24 od 18 hodin na zámku Berchtold.Téma setkání bude „Jak čelit nov
 ým výzvám rychle se měnící doby“.\nVystoupí : Petr Herian\, maj
 itel NEWTON MEDIA\nSetkání je založeno v klubovém duchu\, které zaji
 šťuje důvěrné prostředí pro majitele a zakladatele rodinných firem
  pro sdílení svých zkušeností\, vzájemných dialogů a otázek v ob
 lastech budoucnosti firem\, nástupnictví\, motivace zaměstnanců\, a v
 še\, čím co zakladatele tíží a těší a představení služeb pro m
 ajitele firem nejen v oblasti nástupnictví.Pro účast je třeba vyplnit
  jednoduchý formulář zde: https://forms.office.com/e/AyQgeNcK5z.\nV př
 ípadě vašich dotazů kontaktujte na email: david.surmaj@ekp.cz nebo n
 a tel. 739 003 174.\n \n
URL:https://www.spcr.cz/setkani-majitelu-rodinnych-firem
DTSTART:20240321T180000
DTEND:20240321T235959
LOCATION:
END:VEVENT
END:VCALENDAR
