BEGIN:VCALENDAR
PRODID:-//eluceo/ical//2.0/EN
VERSION:2.0
CALSCALE:GREGORIAN
BEGIN:VEVENT
UID:f1196a4bdaad3793c7361d3594e00eb7
DTSTAMP:20260423T150133Z
SUMMARY:Computex Taipei 2024
DESCRIPTION:Název akce: Computex Taipei 2024\nURL: https://www.spcr.cz/com
 putex-taipei-2024\nPopis: \n\nSvaz průmyslu a dopravy ČR a Tchajpejská 
 hospodářská a kulturní kancelář v Praze si vás dovoluji pozvat na m
 ezinárodní veletrh COMPUTEX TAIPEI 2024\, největším veletrhu ICT v A
 sii a druhém největším na světě. Bude se konat v Taipei Nangang Exhi
 bition Center od 4. června do 7. června 2024. COMPUTEX se letos zaměřu
 je na: “AI Computing”\, “Advanced Connectivity”\, “Future Mobili
 ty”\, “Immersive Reality”\, “Innovations” a “Sustainability”
 . Mezi nové výstavy patří výpočetní technika umělé inteligence a 
 integrace systému\, komponenty a bateriové úložiště energie a chytr
 á mobilita.\nAktuální informace naleznete na oficiálních webových st
 ránkách: COMPUTEX TAIPEI 2024\nNa podporu účasti na tomto veletrhu nab
 ízíme následující pobídkové balíčky. Upozorňujeme\, že nabídky
  platí do vyčerpání finančního rozpočtu a balíčky jsou poskytová
 ny podle pořadí přijetí přihlášky.\n\nPro registraci a podání pob
 ídkové přihlášky vyplňte prosím přiložený formulář "company pr
 ofile" a zašlete jej na emailovou adresu czech@sa.moea.gov.tw nebo czt
 wec01@sa.moea.gov.tw \nPro další informace nás neváhejte kontaktovat:
  Tereza Šafářová\, Ekonomické oddělení\, Tchajpejská hospodářsk
 á a kulturní kancelář v Praze\, tel.: (+420) 234 722 021 nebo Martin N
 atafaluši: mnatafalusi@spcr.cz\n
URL:https://www.spcr.cz/computex-taipei-2024
DTSTART:20240604T080000
DTEND:20240607T170000
LOCATION:
END:VEVENT
END:VCALENDAR
