BEGIN:VCALENDAR
PRODID:-//eluceo/ical//2.0/EN
VERSION:2.0
CALSCALE:GREGORIAN
BEGIN:VEVENT
UID:6750f99106904189a62e566416c558c8
DTSTAMP:20260423T124933Z
SUMMARY:Podnikatelská mise do Zambie
DESCRIPTION:Název akce: Podnikatelská mise do Zambie\nURL: https://www.sp
 cr.cz/podnikatelska-mise-do-zambie\nPopis: \n\nSvaz průmyslu a dopravy Č
 R (SP ČR) si Vás dovoluje informovat o možnosti účasti v podnikatels
 ké misi do Zambie ve dnech 8. – 12. dubna 2024. Podnikatelská delegace
  na pracovní cestě doprovodí předsedu Senátu Parlamentu ČR Miloše V
 ystrčila\, za Svaz průmyslu a dopravy ČR delegaci povede člen předsta
 venstva SP ČR Luboš Pavlas.\nNa programu cesty bude účast české dele
 gace na „EU-Zambia Business Forum“ ve městě Kitwe v oblasti Copperb
 elt\, podnikatelská fóra\, B2B networking/matchmaking a další doprovod
 né programy v navštívených lokalitách\, které umožní prohloubení
  a navázání kontaktů s místním podnikatelským prostředím. Na 
 „EU-Zambia Business Forum“ bude k dispozici český stánek pro možno
 st prezentace a vedení obchodních jednání.\nV Zambii\, konkrétně v t
 ěžební oblasti Copperbeltu\, jsou hlášena nová naleziště kritický
 ch surovin (vysoce kvalitní měď\, kobalt\, nikl) a očekává se rozši
 řování organizované důlní těžby. V oblasti se plánuje také mode
 rnizace a výstavba zcela nového dopravního koridoru\, což nabízí řa
 du příležitostí i pro české firmy.\nZambie je země politicky i ekon
 omicky stabilní\, se strategickou polohou a zdroji nerostného bohatství
 \, která se snaží o cestu růstu skrze udržitelnost\, obnovitelné zdr
 oje a ochranu přírody. Investiční příležitosti se nabízejí zejmé
 na v oblasti těžebního a zpracovatelského průmyslu\, infrastruktury\,
  technologií a cirkulární ekonomiky (více informací najdete pod odkaz
 em zde). \nPrioritními sektory pro tuto podnikatelskou misi jsou důln
 í a těžební průmysl\, dobývací technika\, infrastrukturální celky
  a geologický průzkum\, ale také energetika\, zpracovatelský průmysl\
 , udržitelné technologie\, věda a výzkum či investiční příležito
 sti ve zmíněných oborech. \nPředběžný harmonogram mise (změny vyh
 razeny):\n\nPondělí 8.4.2024 - cca 8.00 odlet z Prahy\, 19.40 přílet d
 o Lusaky\nÚterý 9.4.2024 -  program tbc (jednání s místními partne
 ry\, možnost návštěvy podzemního dolu)\nStředa 10.4.2024 - účast 
 na EU-Zambia Busines Forum v Kitwe\, provincie Copperbelt\; recepce při p
 říležitosti návštěvy předsedy Senátu ČR\nČtvrtek 11.4.2024 - ú
 čast na EU-Zambia Business Forum v Kitwe\, provincie Copperbelt\; cca 18.
 00 odlet do Prahy\nPátek 12.4.2024 - cca 6.00 přílet do Prahy\n\n Zál
 ohová cena za účast v podnikatelské delegaci je 45.900\,- Kč včetně
  DPH\, členové SP ČR mají 10% slevu. Obsah účastnického balíčku j
 e rozepsán v přihlášce.\nV případě zájmu o účast Vás prosíme o
  následující:\n\nZaslání vyplněné\, podepsané a naskenované záva
 zné přihlášky\nVyplnění elektronického registračního formuláře
 \, který obsahuje informace nezbytné pro Vaše uvedení v katalogu podni
 katelské mise\, vyhledání vhodných partnerů\, ale i pro odbavení v l
 etadle vládní letky či ubytování v hotelu.\nZaslání skenu datové 
 stránky vašeho pasu (platnost pasu min. 6 měsíců po návratu zpět d
 o ČR) \nVyplnění jednoho vzorového snímku v powerpointu do společ
 né prezentace\, která může být promítána v rámci networkingových 
 akcí\nZaslání profilové fotografie účastníka do připraveného ka
 talogu firem (min. rozlišení 500 Kb\, 600 x 800 pixelů)\nRegistraci na 
 „EU-Zambia Business Forum“ v Kitwe pod odkazem zde\, aby mohlo dojít
  k vyhledávání partnerů\, propojení firem a matchmakingu již před 
 odletem na misi\n\nDokumenty zašlete na e-mail ijavorova@spcrz.cz nejpo
 zději do pátku 15. března 2024.\nOčkování: do Zambie není povinné 
 očkování\, doporučuje se očkování proti žluté zimnici\, žloutenc
 e typu A a B\, břišnímu tyfu\nPři vyplňování profilu mějte prosím
  na paměti\, že slouží jako podklad pro výběr místních firem a par
 tnerů pro networking a také pro výrobu prezentačního tištěného kat
 alogu mise\, jehož cílem je co nejlépe druhou stranu seznámit s profil
 y a kontaktními údaji zúčastněných firem. Prosíme proto o co nejkon
 krétnější upřesnění Vašich zájmů.\nDalší pokyny Vám sdělíme
  po obdržení Vaší závazné přihlášky a provedení elektronické re
 gistrace.  Informace Vám budeme průběžně zasílat elektronickou poš
 tou\, včetně zálohové faktury na účastnický poplatek pro firmy zař
 azené do podnikatelské delegace. \nVzhledem k omezené kapacitě prosí
 me o včasnou registraci. Pořadatelé si vyhrazují právo odmítnout zá
 jemce o účast s ohledem na vhodnost oborového zaměření a v případ
 ě převisu poptávky nad počtem míst v letadle. Děkujeme za pochopení
 . \nTěšíme se na Vaši účast a spolupráci s Vámi.\n \nVíce o Zam
 bii a obchodních příležitostech v této zemi najdete pod odkazem ní
 že:\nhttps://www.businessinfo.cz/navody/zambie-souhrnna-teritorialni-info
 rmace/2/\nInformace o EU-Zambia Business Forum najdete zde: \nhttps://www
 .eeas.europa.eu/delegations/zambia/eu-zambian-business-forum-value-additio
 n-copper-sector_en \nhttps://euzcopperbf2024.com/\n
URL:https://www.spcr.cz/podnikatelska-mise-do-zambie
DTSTART:20240408T000000
DTEND:20240412T235959
LOCATION:
END:VEVENT
END:VCALENDAR
