BEGIN:VCALENDAR
PRODID:-//eluceo/ical//2.0/EN
VERSION:2.0
CALSCALE:GREGORIAN
BEGIN:VEVENT
UID:cef8e5cfa62129d0469717fd903631e9
DTSTAMP:20260423T145026Z
SUMMARY:3rd Uganda-EU Business Forum
DESCRIPTION:Název akce: 3rd Uganda-EU Business Forum\nURL: https://www.spc
 r.cz/3rd-uganda-eu-business-forum\nPopis: \n\nPodnikatelské fórum Uganda
 -EU (UEUBF) pořádá Evropská unie společně se svými členskými stá
 ty ve spolupráci s GoU a nadací soukromého sektoru Uganda (PSFU) v rám
 ci iniciativy Team Europe pro udržitelné podnikání pro Ugandu (SB4U). 
 BusinessForum je jedno z největších obchodních setkání v Ugandě ur
 čené k mobilizaci investic do Ugandy a posílení ugandského exportu\, 
 což přispívá k partnerství mezi Ugandou a EU.Prostřednictvím vytvá
 ření sítí se účastníci dozvědí o politické orientaci\, identifik
 ují obchodní a investiční příležitosti\, diskutují o výzvách\, r
 ozvíjejí obchodní strategie a vytvářejí trvalá obchodní partnerstv
 í na podporu udržitelného a inkluzivního růstu v Ugandě. Během posl
 edních dvou ročníků fórum spojilo tvůrce politik\, místní podnikat
 ele\, mezinárodní investory\, organizace na podporu podnikání\, finan
 čníky\, odborníky z oboru\, akademiky a občanskou společnost.\nÚčas
 t je možná i online.\nVíce informací o BusinessForu naleznete zde.Mís
 to konáníSpeke Commonwealth Resort\, MunyonyoKampala\, UgandaKDYÚterý 
 až čtvrtek 5. až 7. března 2024\nRegistrovat se můžete zde.\nV pří
 padě dotazů se můžete obrátit na: Velvyslanectví České republiky\
 , Marta Anna Ledgard\, MBA\, vedoucí oddělení ekonomicko obchodního\
 , marta.ledgard@mzv.gov.cz.\n
URL:https://www.spcr.cz/3rd-uganda-eu-business-forum
DTSTART:20240305T080000
DTEND:20240307T235959
LOCATION:
END:VEVENT
END:VCALENDAR
