BEGIN:VCALENDAR
PRODID:-//eluceo/ical//2.0/EN
VERSION:2.0
CALSCALE:GREGORIAN
BEGIN:VEVENT
UID:f11f256b7cc671e6ac23b86a6485fd26
DTSTAMP:20260423T162951Z
SUMMARY:Designed Giftionery Taiwan 2024
DESCRIPTION:Název akce: Designed Giftionery Taiwan 2024\nURL: https://www.
 spcr.cz/designed-giftionery-taiwan-2024\nPopis: \n\nSvaz průmyslu a dopra
 vy ČR a Tchajpejská hospodářská a kulturní kancelář v Praze si vá
 s dovoluje pozvat na mezinárodní veletrh Designed Giftionery Taiwan 202
 4\, který se bude konat v Taipei World Trade Center od 18. dubna do 21. d
 ubna 2024. Tento veletrh hrdě představuje nejnovější trendy v oblasti
  originálního designu se zvláštním zaměřením na Asii\, zejména na
  Tchaj-wan - dynamické centrum kreativních zdrojů. Na veletrhu se setk
 ávají nejlepší inovace v oblasti dárkových předmětů\, papírnictv
 í\, domácích dekorací\, spotřebního zboží a obalového designu.\nA
 ktuální informace naleznete na oficiálních webových stránkách: Desi
 gned Giftionery Taiwan 2024\nNa podporu účasti na tomto veletrhu nabíz
 í Tchajpejská hospodářská a kulturní kancelář v Praze následují
 cí pobídkové balíčky. Nabídky platí do vyčerpání finančního ro
 zpočtu a balíčky jsou poskytovány podle pořadí přijetí přihlášk
 y.\n\nPro registraci a podání pobídkové přihlášky vyplňte prosím 
 formulář "company profile" a zašlete jej na emailovou adresu czech@sa.
 moea.gov.tw nebo cztwec01@sa.moea.org.tw \nPro další informace neváh
 ejte kontaktovat: Tereza Šafářová\, Ekonomické oddělení\, Tchajpejs
 ká hospodářská a kulturní kancelář v Praze\, tel.: (+420) 234 722 0
 21\, nebo Martin Natafaluši: mnatafalusi@spcr.cz\n
URL:https://www.spcr.cz/designed-giftionery-taiwan-2024
DTSTART:20240418T080000
DTEND:20240421T170000
LOCATION:
END:VEVENT
END:VCALENDAR
