BEGIN:VCALENDAR
PRODID:-//eluceo/ical//2.0/EN
VERSION:2.0
CALSCALE:GREGORIAN
BEGIN:VEVENT
UID:41a243b254bf857bcfada94613f57d8e
DTSTAMP:20260423T125523Z
SUMMARY:How to Apply for Financing from IFC - Pozvánka na webinář
DESCRIPTION:Název akce: How to Apply for Financing from IFC - Pozvánka na
  webinář\nURL: https://www.spcr.cz/how-apply-financing-ifc-pozvanka-na-w
 ebinar\nPopis: \n\nVážené dámy\, vážení pánové\,\nrádi bychom V
 ás pozvali na webinář organizovaný International Finance Corporation (
 IFC)\, členem skupiny Světové banky\, ve spolupráci s jejich českým\
 , slovenským a maďarským kontaktním místem (liaison officer). Témate
 m webináře bude představení finančních produktů IFC pro soukromý s
 ektor a vysvětlení toho\, jak lze s IFC v praxi spolupracovat.\nWebiná
 ř je určen k získání základních informací a kontaktů\, bude proto
  trvat pouze 90 minut\, ale v případě Vašeho zájmu Vás v naší roli
  českého kontaktního místa můžeme podpořit v dalších jednáních 
 s IFC.\nVzhledem k výlučné přítomnosti zahraničních přednášejíc
 ích z IFC se bude celý webinář konat v anglickém jazyce. Budete moci 
 vznést i své dotazy\, v případě zájmu Vám pomůžeme s jejich přek
 ladem z češtiny do angličtiny. Účast je bez poplatku.\nPokud máte z
 ájem o účast\, napište své firemní a kontaktní údaje na adresu ps
 lo@ceb.cz. Následně Vám přijde pozvánka k připojení prostřednictv
 ím elektronické platformy.\nBudeme se moc těšit na setkání.Za organi
 zační týmKateřina ChmelařováČeská exportní banka\, a.s.Private Se
 ctor Liaison Officer for World Bank Group\n
URL:https://www.spcr.cz/how-apply-financing-ifc-pozvanka-na-webinar
DTSTART:20240222T100000
DTEND:20240222T113000
LOCATION:
END:VEVENT
END:VCALENDAR
