BEGIN:VCALENDAR
PRODID:-//eluceo/ical//2.0/EN
VERSION:2.0
CALSCALE:GREGORIAN
BEGIN:VEVENT
UID:24db81bf4d7043ec4afc2f0e190a0a36
DTSTAMP:20260423T145027Z
SUMMARY:Veletrh AMPER - SMART & CONNECTED WORLD
DESCRIPTION:Název akce: Veletrh AMPER - SMART & CONNECTED WORLD\nURL: http
 s://www.spcr.cz/veletrh-amper-smart-connected-world\nPopis: \n\nNejvětš
 í mezinárodní veletrh elektrotechniky\, energetiky\, automatizace\, kom
 unikace\, zabezpečení a osvětlení v ČR a na Slovensku.\nVeletrh A
 MPER se vzhledem k prezentaci firem na nejvyšší úrovni v České re
 publice a na Slovensku etabloval jako nejvýznamnější událost elektr
 otechnických odborníků pro projednávání technologické\, obchodn
 í\, marketingové spolupráce\, navázání nových kontaktů a zárove
 ň nabízí nejnovější přehled všech trendů a inovací pro technick
 y zaměřené návštěvníky.\n\nPodrobné informace pro vystavovatele i 
 návštěvníky najdete na webu apmer.cz.\n
URL:https://www.spcr.cz/veletrh-amper-smart-connected-world
DTSTART:20240319T000000
DTEND:20240321T235959
LOCATION:
END:VEVENT
END:VCALENDAR
