BEGIN:VCALENDAR
PRODID:-//eluceo/ical//2.0/EN
VERSION:2.0
CALSCALE:GREGORIAN
BEGIN:VEVENT
UID:ae586b475293134a05c677b6fecf206b
DTSTAMP:20260423T125029Z
SUMMARY:TaiSPO 2024
DESCRIPTION:Název akce: TaiSPO 2024\nURL: https://www.spcr.cz/taispo-2024\
 nPopis: \n\nDovolujeme si Vás pozvat na mezinárodní veletrh TaiSPO 202
 4\, jeden z nejvýznamnějších asijských veletrhů sportovního zboží
 \, který se bude konat v Taipei Nangang Exhibition Center od 6. března d
 o 9. března 2024. Letos TaiSPO má tři témata: “Dynamic Fitness Socie
 ty”\, “Alternative Leisure Lifestyle” a “Sports Tech: Next Level
 ”. Prostřednictvím těchto témat veletrh poukáže na rozmanitost spo
 rtovního a fitness průmyslu\, na řadu dostupných venkovních životní
 ch stylů a na neomezený potenciál\, který technologie do sportovního 
 ekosystému přinášejí.\nAktuální informace naleznete na oficiálníc
 h webových stránkách: TaiSPO 2024 \nNa podporu účasti na tomto velet
 rhu nabízí Tchajpejská ekonomická a kulturní kancelář následujíc
 í pobídkové balíčky. Upozorňujeme\, že nabídky platí do vyčerpá
 ní finančního rozpočtu a balíčky jsou poskytovány podle pořadí p
 řijetí přihlášky.\n\nPro registraci a podání pobídkové přihláš
 ky vyplňte prosím přiložený formulář "company profile" a zašlete j
 ej na emailovou adresu czech@sa.moea.gov.tw nebo cztwec01@sa.moea.org.t
 w \nPro další informace neváhejte kontaktovat: Tereza Šafářová\, E
 konomické oddělení\, Tchajpejská hospodářská a kulturní kancelář
  v Praze\, tel.: (+420) 234 722 021 nebo Martina Natafalušiho: mnatafalus
 i@spcr.cz\n
URL:https://www.spcr.cz/taispo-2024
DTSTART:20240306T080000
DTEND:20240309T170000
LOCATION:
END:VEVENT
END:VCALENDAR
