BEGIN:VCALENDAR
PRODID:-//eluceo/ical//2.0/EN
VERSION:2.0
CALSCALE:GREGORIAN
BEGIN:VEVENT
UID:46f28d276654d6695a3cc4bbe6f291ff
DTSTAMP:20260423T163124Z
SUMMARY:Taipei Cycle 2024
DESCRIPTION:Název akce: Taipei Cycle 2024\nURL: https://www.spcr.cz/taipei
 -cycle-2024\nPopis: \n\nDovolujeme si Vás pozvat na mezinárodní veletrh
  TAPEI CYCLE 2024\, který se bude konat v Taipei Nangang Exhibition Cent
 er od 6. března do 9. března 2024. Taipei Cycle se zaměřuje na jízdn
 í kola\, cyklistické díly\, komponenty a příslušenství\, elektrokol
 a\, nákladní kola\, mikromobilitu a chytré cyklistické služby.\nAktu
 ální informace naleznete na oficiálních webových stránkách: TAIPEI 
 CYCLE 2024\nNa podporu účasti na tomto veletrhu nabízíme následujíc
 í pobídkové balíčky. Upozorňujeme\, že nabídky platí do vyčerpá
 ní finančního rozpočtu a balíčky jsou poskytovány podle pořadí p
 řijetí přihlášky.\n\nPro registraci a podání pobídkové přihláš
 ky vyplňte prosím formulář "company profile" a zašlete jej na emailov
 ou adresu czech@sa.moea.gov.tw nebo cztwec01@sa.moea.org.tw \nPro dal
 ší informace nás neváhejte kontaktovat: Tereza Šafářová\, Ekonomic
 ké oddělení\, Tchajpejská hospodářská a kulturní kancelář v Praz
 e\, tel.: (+420) 234 722 021 nebo Martin Natafaluši: mnatafalusi@spcr.cz\
 n
URL:https://www.spcr.cz/taipei-cycle-2024
DTSTART:20240306T080000
DTEND:20240309T170000
LOCATION:
END:VEVENT
END:VCALENDAR
