BEGIN:VCALENDAR
PRODID:-//eluceo/ical//2.0/EN
VERSION:2.0
CALSCALE:GREGORIAN
BEGIN:VEVENT
UID:04586d040eb9f6b3918bd30eb3a32e51
DTSTAMP:20260423T125643Z
SUMMARY:Podnikatelská mise do USA a Kanady
DESCRIPTION:Název akce: Podnikatelská mise do USA a Kanady\nURL: https://
 www.spcr.cz/podnikatelska-mise-do-usa-kanady\nPopis: \n\nSvaz průmyslu a 
 dopravy ČR (SP ČR) si Vás dovoluje informovat o možnosti účasti v po
 dnikatelské misi do Spojených států amerických a Kanady v termínu 28
 . dubna až 4. května 2024. Mise je organizovaná SP ČR z pověření Mi
 nisterstva průmyslu a obchodu ČR. Na organizaci programu na místě se p
 odílí Velvyslanectví ČR ve Washingtonu D.C. a Generální konzuláty v
  New Yorku\, Chicagu\, Los Angeles a Torontu\, stejně jako kanceláře C
 zechTrade a CzechInvest v New Yorku\, Torontu\, Chicagu a San Franciscu\,
  ve spolupráci s místními partnery.\nMise se koná při příležitosti
  pracovní návštěvy ministra průmyslu a obchodu Jozefa Síkely do USA 
 a Kanady. Vedoucím podnikatelské delegace bude prezident SP ČR Jan Rafa
 j. Mise je primárně zaměřena na start-upy\, scale-upy a inovativní fi
 rmy z oblasti ICT a technologických řešení\, dále smart manufacturing
  a bio/health tech. V rámci mise navštíví delegace Boston (Massachuset
 ts\, USA)\, Toronto (Ontario\, Kanada)\, Chicago (Illinois\, USA) a Seattl
 e (Washington\, USA).\nV programu mise počítáme s organizací networkin
 gových akcí a pitch event za přítomnosti pana ministra a amerických a
  kanadských partnerů ve všech navštívených městech\, s návštěvam
 i globálních firem a výzkumných center z oblasti technologií\, techno
 logických inkubátorů\, akcelerátorů či inovačních center a další
  dle preferencí účastníků. Součástí je setkání podnikatelské de
 legace s ministrem\, velvyslancem a s dalšími zástupci ČR v USA a v Ka
 nadě.\nPředběžný program mise (změny vyhrazeny):\n\nNeděle 28.4.202
 4Dopoledne odlet z PrahyOdpoledne přílet do BostonuPřesun do hotelu\, u
 bytování\nPondělí 29.4. 2024 – BostonDopoledne pitch eventOdpoledne 
 networkingová akce\nÚterý 30.4. 2024 – TorontoDopoledne přílet do T
 orontaOdpoledne pitch event/akce s inkubátoremVečer recepce/networkingo
 vá akce \nStředa 1.5. 2024 – ChicagoDopoledne prostor pro individuál
 ní schůzky v TorontuPoledne přelet do ChicagaPozdní odpoledne networki
 ngová akce \nČtvrtek 2.5. 2024 – ChicagoDopoledne pitch event v inku
 bátoru\, případně návštěva HardlabOdpoledne prostor pro individuál
 ní schůzkyVečer přelet do Seattle \nPátek 3.5. 2024 – SeattlePitch
  event\, networkingová akceProhlídka Spheres\, prezentace Amazon/AWSVeč
 er odlet do Prahy\nSobota 4.5. 2024Přílet do Prahy\n\nDalší program v 
 jednání/bude doplňován a upřesňován a sdílen s účastníky\nZálo
 hová cena za účast v podnikatelské delegaci je 82.500\,- Kč včetně 
 DPH. Obsah účastnického balíčku je rozepsán v přihlášce.\nV pří
 padě zájmu o účast Vás prosíme o následující:\n\nVyplnění a pod
 epsání Závazné přihlášky\, její naskenování a zaslání e-mailem
  na adresu ijavorova@spcr.cz nejpozději do 4. března 2024 do 17:00.\nSou
 časně s přihláškou je nutné vyplnit i elektronický formulář\, kte
 rý obsahuje informace nezbytné pro Vaše uvedení v katalogu podnikatels
 ké mise\, vyhledání vhodných partnerů pro B2B networking\, ale i pro 
 odbavení v letadle vládní letky či ubytování v hotelu.\nZaslání sk
 enu datové stránky vašeho pasu (platnost pasu min. 6 měsíců po návr
 atu zpět do ČR) a skenu stránky ve stejném pase s platným vylepeným 
 americkým vízem B1/B2 – pokud jím disponujete\; pokud ne\, vyčkejte 
 prosím na instrukce SP ČR.\nProsíme také o vyplnění jednoho vzorové
 ho snímku v powerpointu do společné prezentace\, která může být pro
 mítána v rámci networkingových akcí.\nZáslání profilové fotografi
 e účastníka do připraveného katalogu firem (min. rozlišení 500 Kb\,
  600 x 800 pixelů)\n\nVzhledem ke skutečnosti\, že se cesta uskuteční
  vládním speciálem\, MUSÍ všichni účastníci na palubě disponovat 
 platným americkým vízem typu B1/B2 vylepeným v pase. ESTa nestačí. V
 ízum uděluje ZÚ USA v Praze a jeho udělení je spojené s návštěvou
  na ZÚ a případným pohovorem. Platnost tohoto víza je 5 – 10 let.\n
 Pokud již disponujete tímto platným vízem (optimální varianta)\, za
 šlete nám prosím jeho sken. Pokud nikoliv\, po uzavření přihlášek 
 Vám začátkem března zašleme instrukce k vyřízení víza na ZÚ USA 
 v Praze.\nDo Kanady je potřeba požádat o víza elektronicky\, instrukce
  Vám zašleme po potvrzení účasti na misi.\nUpozorňujeme\, že bez vy
 plnění elektronického formuláře nemůžeme Vaši přihlášku zpracov
 at. Výběr místních firem a partnerů pro networking bude probíhat na 
 základě Vámi dodaných profilů a informací o Vaší firmě v tomto el
 ektronickém formuláři.  Prosíme proto o co nejkonkrétnější upřes
 nění Vašich zájmů.\nPři vyplňování profilu mějte prosím na pam
 ěti\, že slouží také jako podklad pro výrobu prezentačního tiště
 ného katalogu mise\, jehož cílem je co nejlépe druhou stranu seznámit
  s profily a kontaktními údaji zúčastněných firem.\nPo obdržení Va
 ší závazné přihlášky a provedení elektronické registrace Vám za
 šleme další pokyny a zálohovou fakturu na účastnický poplatek.  Da
 lší podklady a informace Vám budeme průběžně zasílat elektronickou
  poštou. Podnikatelskou misi organizačně zajišťuje manažerka Sekce v
 nějších vztahů Ivana Javorová (email: ijavorova@spcr.cz\, tel. 778 
 969 365).\nVzhledem k omezené kapacitě a potřebě vyřízení víz do U
 SA prosíme o včasnou registraci. Pořadatelé si vyhrazují právo odmí
 tnout zájemce o účast s ohledem na vhodnost oborového zaměření v p
 řípadě převisu poptávky nad počtem míst v letadle. Děkujeme za poc
 hopení.\nTěšíme se na Vaši účast a spolupráci s Vámi.\n
URL:https://www.spcr.cz/podnikatelska-mise-do-usa-kanady
DTSTART:20240428T000000
DTEND:20240504T235959
LOCATION:
END:VEVENT
END:VCALENDAR
