BEGIN:VCALENDAR
PRODID:-//eluceo/ical//2.0/EN
VERSION:2.0
CALSCALE:GREGORIAN
BEGIN:VEVENT
UID:2becbc29f5715f236a98e3d964f4e457
DTSTAMP:20260423T094704Z
SUMMARY:Příležitosti a výzvy podnikání v Brazílii 2024
DESCRIPTION:Název akce: Příležitosti a výzvy podnikání v Brazílii 2
 024\nURL: https://www.spcr.cz/prilezitosti-vyzvy-podnikani-v-brazilii-2024
 \nPopis: \n\nDovolujeme si vás pozvat na online seminář pořádaný MZV
  týkající se projektu na podporu ekonomických aktivit v Brazílii (PRO
 PEA) pro rok 2024.   Jedná se o nástroj ekonomické diplomacie\, jehož 
 cílem je podpořit české firmy při vstupu na náročné trhy a sníži
 t potenciální rizika. V rámci projektu může Vaše společnost za zvý
 hodněných podmínek využít služby místního prověřeného partnera 
 spojené se vstupem na brazilský trh.   Na online seminář Příležitos
 ti a výzvy podnikání v Brazílii 2024\,  se seznámíte s aktuální s
 ituací na brazilském trhu\, projektem PROPEA a způsobem jeho využití.
    Jménem Velvyslanectví České republiky v Brasílii a společnosti Ev
 olver Solutions si Vás tímto dovolujeme na seminář srdečně pozvat.  
  Seminář proběhne 1. 2. 2024 od 14:30 (SEČ)  Platforma TEAMS: https://
 bit.ly/3Sr5YLX   Prosíme o potvrzení účasti pro případné zaslání 
 aktualizací\, materiálů apod. na email filip_vavrinek@mzv.cz     V p
 řípadě jakýchkoliv dotazů nás neváhejte kontaktovat. Doufáme\, že
  tato iniciativa podpoří hlubší zájem o příležitosti na brazilské
 m trhu.   Více informací o projektu PROPEA: https://mzv.gov.cz/brasilia/
 cz/obchodni_a_ekonomicke_informace/cesti_podnikatele_mohou_v_brazilii_nove
 .html\n
URL:https://www.spcr.cz/prilezitosti-vyzvy-podnikani-v-brazilii-2024
DTSTART:20240201T143000
DTEND:20240201T235959
LOCATION:
END:VEVENT
END:VCALENDAR
