BEGIN:VCALENDAR
PRODID:-//eluceo/ical//2.0/EN
VERSION:2.0
CALSCALE:GREGORIAN
BEGIN:VEVENT
UID:2ad15dddd252c842623e445fae14e78b
DTSTAMP:20260423T192644Z
SUMMARY:Meeting Point CzechTrade 2024
DESCRIPTION:Název akce: Meeting Point CzechTrade 2024\nURL: https://www.sp
 cr.cz/meeting-point-czechtrade-2024\nPopis: \n\nDiskutujte o perspektivác
 h vašeho podnikání s řediteli zahraničních kanceláří CzechTrade. 
 Svoje exportní aktivity můžete rozšířit až do 60 zemí.\nHLEDÁTE O
 DPOVĚDI NA OTÁZKY:\n\nJak prodám svoje výrobky či služby do zahrani
 čí?\nJak ve světě najdu vhodného obchodního partnera?\nJakou zvolím
  formu při vstupu na trh?\nJaké jsou aktuální obchodní příležito
 sti v mém oboru?\n\nŘeditelé zahraničních kanceláří dlouhodobě 
 působí v teritoriích a orientují se na místním obchodním trhu\, sle
 dují aktuální příležitosti pro české firmy\, znají obchodní podm
 ínky\, jazyk a další zvyklosti. Exportérům pomáhají od vstupu na tr
 h po rozvoj podnikání včetně zakládání poboček. Dají vám zpětno
 u vazbu\, zda váš výrobek nebo služba může na konkrétním trhu usp
 ět a navrhnou individuální řešení vstupu na trh.\nVíce informací o
  akci + registrační formulář naleznete na tomto odkazu:https://www.cze
 chtrade.cz/kalendar-akci/meeting-point-czechtrade\n
URL:https://www.spcr.cz/meeting-point-czechtrade-2024
DTSTART:20240227T000000
DTEND:20240228T235959
LOCATION:
END:VEVENT
END:VCALENDAR
