BEGIN:VCALENDAR
PRODID:-//eluceo/ical//2.0/EN
VERSION:2.0
CALSCALE:GREGORIAN
BEGIN:VEVENT
UID:f8bc4a64d9c2cd941851229b92370bc2
DTSTAMP:20260423T125131Z
SUMMARY:Sarajevo Business Forum 2024
DESCRIPTION:Název akce: Sarajevo Business Forum 2024\nURL: https://www.spc
 r.cz/sarajevo-business-forum-2024\nPopis: \n\nMinisterstvo průmyslu a obc
 hodu ČR a Svaz průmyslu a dopravy ČR vás zvou k účasti na Sarajevo B
 usiness Forum\, které se bude konat ve dnech 21-23. května 2024 v Saraje
 vu\, Bosně a Hercegovině.\nSarajevo Business Forum je každoroční ekon
 omická a obchodní konference\, kterou pořádá Bosna Bank International
  (BBI) ve spolupráci se svými partnery. Akce se koná v Sarajevu v Bosn
 ě a Hercegovině a setkávají se na ní obchodní lídři\, podnikatelé
 \, investoři a další zainteresované strany z Balkánu\, Evropy\, Stře
 dního východu a dalších zemí.\nVšechny důležité informace o tomto
  business fóru včetně řečníků\, sponzorů a programu najdete na lin
 ku zde.\nRegistrace na toto business fórum je k dispozici zde.\nPro konkr
 étnější požadavky týkající se Sarajevo Business Forum kontaktujte 
 přímo organizační tým prostřednictvím kontaktního formuláře nebo
  telefonního čísla +387 33 275 189.\n
URL:https://www.spcr.cz/sarajevo-business-forum-2024
DTSTART:20240521T080000
DTEND:20240523T170000
LOCATION:
END:VEVENT
END:VCALENDAR
