BEGIN:VCALENDAR
PRODID:-//eluceo/ical//2.0/EN
VERSION:2.0
CALSCALE:GREGORIAN
BEGIN:VEVENT
UID:041a5caaaf8a067faf613f8775521e15
DTSTAMP:20260423T150509Z
SUMMARY:BIAC Southeast Asia Meeting
DESCRIPTION:Název akce: BIAC Southeast Asia Meeting\nURL: https://www.spcr
 .cz/biac-southeast-asia-meeting\nPopis: \n\nWe are pleased to announce the
  first virtual meeting of Business at OECD (BIAC) Southeast Asia Con
 tact Group for 2024. This meeting marks a significant step in our ongoing 
 efforts to foster collaboration and engagement within Southeast Asia.\nD
 ate and Time:\n\nFebruary 7\, 14:00-15:00 CET (8:00-9:00 EST)\n\nFormat:\n
 \nOnline (Zoom)\n\nAgenda Overview:\nThe detailed agenda will be sent to y
 ou in due course. We anticipate a dynamic and informative session featurin
 g high-level speakers and critical discussions pertinent to our collective
  objectives in Southeast Asia.\nConfirmed Speakers:\n\nPhil O’Reilly\,
  Chair\, Business at OECD Southeast Asia Contact Group\nBernardino Veg
 a\, Vice Chair of International Relations\, KADIN Indonesia\, Former Alter
 nate Chair of ASEAN-BAC 2023\nHanni Rosenbaum\, Executive Director\, Busi
 ness at OECD\nAlexander Bohmer\, Head of South Asia/Southeast Asia Div
 ision\, OECD\n(TBC) A representative from the ASEAN Business Advisory Coun
 cil\n\nRegistration:\nPlease reserve your spot at the meeting by registeri
 ng  HERE). You will receive a meeting link upon your registration. The m
 eeting is set to welcome not only members of our Southeast Asia Contact
  Group but also representatives from your organization or company with a v
 ested interest in BIAC/OECD activities pertaining to the Southeast Asia
  region.\nContact:\nIf you have any questions or need additional informat
 ion\, please contact Hiroki Waki (waki@biac.org).\nWe look forward to you
 r participation.\n
URL:https://www.spcr.cz/biac-southeast-asia-meeting
DTSTART:20240207T140000
DTEND:20240207T150000
LOCATION:
END:VEVENT
END:VCALENDAR
