BEGIN:VCALENDAR
PRODID:-//eluceo/ical//2.0/EN
VERSION:2.0
CALSCALE:GREGORIAN
BEGIN:VEVENT
UID:709aef9d8f3e9c447863b50a5493a958
DTSTAMP:20260423T162622Z
SUMMARY:Podnikatelská mise do Indie\, Austrálie a Japonska s ministrem za
 hraničních věcí ČR
DESCRIPTION:Název akce: Podnikatelská mise do Indie\, Austrálie a Japons
 ka s ministrem zahraničních věcí ČR\nURL: https://www.spcr.cz/podnika
 telska-mise-do-indie-australie-japonska-s-ministrem-zahranicnich-veci-cr\n
 Popis: \n\nSvaz průmyslu a dopravy ČR si Vás dovoluje informovat\, že 
 ve dnech 22. února až 3. března 2024 se plánuje pracovní cesta minist
 ra zahraničních věci ČR\, Jana Lipavského do Indie\, Austrálie a Jap
 onska s doprovodnou podnikatelskou delegací\, kterou za Svaz průmyslu a
  dopravy ČR povede viceprezidentka Kateřina Kupková.\nNa programu cesty
  budou podnikatelská fóra\, B2B networking/matchmaking a další doprovo
 dné programy v navštívených lokalitách\, které umožní prohlouben
 í a navázání kontaktů s místním podnikatelským prostředím. \nP
 rioritními sektory pro tuto podnikatelskou misi jsou kyberbezpečnost\, 
 digitalizace\, ICT a inovativní digitální řešení. Mise je určena fi
 rmám\, které již v daném teritoriu mají rozjednané konkrétní proj
 ekty\, či plánují na tyto trhy vstoupit a potřebují podnikatelské pr
 ostředí více navnímat.\nPředběžný harmonogram mise (změny vyhraze
 ny):\n\nčtvrtek\, 22.2.\, odlet z Prahy do Dillí\;\npátek\, 23.2.\, pr
 ogram v Dillí\;\nsobota\, 24.2.\, odlet z Dillí do Canberry\;\nneděle
 \, 25.2.\, neformální program v Canbeře\;\npondělí\, 26.2.\, busines
 s program v Canbeře\;\núterý\, 27.2.\, ráno odlet do Sydney program v
  Sydney\;\nstředa\, 28.2.\, přelet do Tokia\;\nčtvrtek a pátek\, 29.2
 . a 1.3.\, program v Tokiu\;\nsobota\, 2.3.\, přelet do Osaky\, program 
 v Osace a ten samý den odlet z Osaky do Prahy.\n\nHlavním komunikačním
  jazykem bude angličtina. \nZáloha na účastnický poplatek činí 11
 0.000\,- Kč (včetně DPH) a zahrnuje poplatek za víza\, ubytování\, 
 transfery\, pronájmy prostor\, catering\, organizace firemních jednání
 \, organizační náklady spojené s přípravou mise a služby po dobu mi
 se.\nV případě zájmu o účast na této misi Vás žádáme o následu
 jící:\n\nvyplňte závaznou online registraci\nzašlete vyplněnou\, po
 depsanou a naskenovanou závaznou přihlášku\nzašlete vyplněný sní
 mek pro prezentaci\nzašlete sken cestovního pasu (strana s fotografií
 \; platnost pasu min. 6 měsíců po návratu zpět do ČR)\nzašlete fot
 o účastníka v min. rozlišení 600×800 pixelů\, 500 kB pro připravov
 aný katalog firem\n\nDokumenty zašlete na e-mail mnatafalusi@spcr.cz n
 ejpozději do pátku\, 26. ledna 2024 (v případě potřeby delšího ča
 su na zpracování potřebných kroků nás prosím také kontaktujte pře
 dem).Vzhledem k potřebné přípravě a omezené kapacitě mise Vám dop
 oručujeme přihlásit se co nejdříve.Upozorňujeme\, že pro vstup do I
 ndie budou potřeba víza a za účelem jejich získání od Vás budeme p
 otřebovat v určených termínech Váš cestovní pas\, který musí mít
  platnost více než 6 měsíců po návratu z cesty. \n
URL:https://www.spcr.cz/podnikatelska-mise-do-indie-australie-japonska-s-mi
 nistrem-zahranicnich-veci-cr
DTSTART:20240222T080000
DTEND:20240303T170000
LOCATION:
END:VEVENT
END:VCALENDAR
