BEGIN:VCALENDAR
PRODID:-//eluceo/ical//2.0/EN
VERSION:2.0
CALSCALE:GREGORIAN
BEGIN:VEVENT
UID:1b138d438ba142eb598a8193f431c111
DTSTAMP:20260423T145749Z
SUMMARY:Online seminář: Řízení měnového rizika v kontextu firemní s
 trategie 2024/2025
DESCRIPTION:Název akce: Online seminář: Řízení měnového rizika v ko
 ntextu firemní strategie 2024/2025\nURL: https://www.spcr.cz/online-semin
 ar-rizeni-menoveho-rizika-v-kontextu-firemni-strategie-20242025\nPopis: \n
 \nDovolujeme si Vás pozvat na seminář pořádaný agenturou CzechTrade\
 , kde budou: \n\n· Představeny možnosti\, jak se připravit na všechn
 y scénáře vývoje kurzu pro příští rok spolu s analytickým výhled
 em a praktickou ukázkou možných řešení\n· 2 bloky zaměřené na ak
 tuální výzvy na (kurzovním) trhu\, očekávaný vývoj kurzu CZK a na
  vybrané strategie pro řízení měnového rizika\n\nBližší informace
  a možnost registrace zde. \n
URL:https://www.spcr.cz/online-seminar-rizeni-menoveho-rizika-v-kontextu-fi
 remni-strategie-20242025
DTSTART:20240206T100000
DTEND:20240206T113000
LOCATION:
END:VEVENT
END:VCALENDAR
