BEGIN:VCALENDAR
PRODID:-//eluceo/ical//2.0/EN
VERSION:2.0
CALSCALE:GREGORIAN
BEGIN:VEVENT
UID:3e17c85d436eacede66b64a83b782e00
DTSTAMP:20260423T172422Z
SUMMARY:Analýza konkurence v online prostředí
DESCRIPTION:Název akce: Analýza konkurence v online prostředí\nURL: htt
 ps://www.spcr.cz/analyza-konkurence-v-online-prostredi\nPopis: \n\nDovoluj
 eme si Vás pozvat na seminář pořádaný agenturou CzechTrade\, který 
 bude zaměřen na konkrétní postupy analýzy konkurence (nejen) v rámci
  expanze.\nObsah workshopu:\n\nanalýza webů konkurence\nanalýza návšt
 ěvnosti\nanalýza jednotlivých marketingových kanálů\ncenové koefici
 enty\nmystery shopping\nanalýza prodejnosti webů konkurence\n\nBižší 
 informace a možnost registrace zde.\n
URL:https://www.spcr.cz/analyza-konkurence-v-online-prostredi
DTSTART:20240201T090000
DTEND:20240201T130000
LOCATION:
END:VEVENT
END:VCALENDAR
