BEGIN:VCALENDAR
PRODID:-//eluceo/ical//2.0/EN
VERSION:2.0
CALSCALE:GREGORIAN
BEGIN:VEVENT
UID:92068747d86f2210a421a888e6e1861f
DTSTAMP:20260423T125029Z
SUMMARY:Exportní příležitosti na POBALTSKÝCH trzích
DESCRIPTION:Název akce: Exportní příležitosti na POBALTSKÝCH trzích\
 nURL: https://www.spcr.cz/exportni-prilezitosti-na-pobaltskych-trzich\nPop
 is: \n\nDovolujeme si Vás pozvat na seminář pořádaný agenturou Czech
 Trade.\nAnotace:\n\nAktuální situace na tamních trzích\nTipy na úspě
 šný export\nObchodní a kulturní zvyklosti\nOslovení potenciálního o
 bchodního partnera\nOborové příležitosti pro české podnikatele\nDop
 ady války na Ukrajině na trhy Pobaltí\nPlánované akce CzechTrade\nOt
 ázky & Odpovědi\n\nBližší informace a možnost registrace zde. \n
URL:https://www.spcr.cz/exportni-prilezitosti-na-pobaltskych-trzich
DTSTART:20240130T100000
DTEND:20240130T113000
LOCATION:
END:VEVENT
END:VCALENDAR
