BEGIN:VCALENDAR
PRODID:-//eluceo/ical//2.0/EN
VERSION:2.0
CALSCALE:GREGORIAN
BEGIN:VEVENT
UID:5dd89b245a579847d20583a351c5719d
DTSTAMP:20260423T125536Z
SUMMARY:Jak si chránit duševní vlastnictví (nejen) při exportu
DESCRIPTION:Název akce: Jak si chránit duševní vlastnictví (nejen) př
 i exportu\nURL: https://www.spcr.cz/jak-si-chranit-dusevni-vlastnictvi-nej
 en-pri-exportu\nPopis: \n\nDovolujeme si Vás pozvat na seminář pořáda
 ný agenturou CzechTrade\, na kterém budou představeny základy ochrany
  duševního vlastnictví\, které by měl každý úspěšný exportér z
 nát.\nDozvíte se například:\n\nKdy využít patent\, a kdy je na míst
 ě ochranná známka\nJaké lhůty si pohlídat při rozšiřování ochra
 ny do zahraničí\nJak si ochránit inovativní design svého výrobku\, a
 plikace a webu\nKolik se vyplatí do ochrany investovat a jakými způsoby
  můžete získat velkou část svých investic zpět\nJakou roli v prosaz
 ování vašich práv mohou hrát provozovatelé marketplaces\n\nBližší
  informace a možnost registrace zde.\n
URL:https://www.spcr.cz/jak-si-chranit-dusevni-vlastnictvi-nejen-pri-export
 u
DTSTART:20240124T100000
DTEND:20240124T113000
LOCATION:
END:VEVENT
END:VCALENDAR
