BEGIN:VCALENDAR
PRODID:-//eluceo/ical//2.0/EN
VERSION:2.0
CALSCALE:GREGORIAN
BEGIN:VEVENT
UID:eb973202814d022463d30fcdc097bcfa
DTSTAMP:20260423T125940Z
SUMMARY:Představení singapurského fintechového ekosystému
DESCRIPTION:Název akce: Představení singapurského fintechového ekosyst
 ému\nURL: https://www.spcr.cz/predstaveni-singapurskeho-fintechoveho-ekos
 ystemu\nPopis: \n\nDovolujeme si Vás pozvat na seminář pořádaný agen
 turou CzechTrade jehož hlavním cílem je představení singapurského e
 kosystému finančních technologií včetně klíčového Singapurského 
 fintechového festivalu 2024.Seminář bude veden částečně v angličt
 ině.\nProgram:\n1) Představení základních informací o Singapuru\n\n
 Ladislav Graner ( LinkedIn profil )\, ředitel zahraniční kanceláře
  CzechTrade Singapur (v češtině)\n\n2) Představení singapurského fi
 ntechového ekosystému\n\nShakeel Rashid ( LinkedIn profil )\, vedoucí
  oddělení pro partnerství a komunikaci v Singapurské fintechové asoci
 aci (v angličtině)\n\nSingapurská fintechová asociace (SFA) vás podro
 bně seznámí s:\n\nS fintechovým prostředím v oblasti ASEANu\nJak př
 ispěla k růstu singapurského fintechového prostředí a umožnila tét
 o zemi stát se takovým FinTech Hubem\, jakým je dnes\nJak SFA napomáh
 á tomuto růstu tím\, že posiluje FinTech komunitu prostřednictvím ce
 loročních iniciativ\, které zajišťují vitalitu ekosystému\n\n3) Př
 edstavení klíčové fintechové události v Singapuru – Singapore Fin
 tech Festival 2024\n\n Caren Tso ( LinkedIn profil )\, manažerka oddě
 lení pro vztahy s vládou a mezinárodní spolupráci ve společnosti Ele
 vandi (v angličtině)\n\nTato část semináře klade důraz na rozmanit
 é příležitosti a významné zviditelnění\, které mohou české spol
 ečnosti získat díky Singapore FinTech Festivalu 2024 - globální platf
 ormě\, kde se setkávají lídři a komunity z oblasti politiky\, financ
 í a technologií. Díky účastníkům z více než 115 zemí objevte mo
 žnosti\, jak prezentovat svou nabídku a získat vliv na mezinárodní sc
 éně.\n4) Otázky a odpovědi (v angličtině)\nBližší informace a m
 ožnost registrace zde. \n
URL:https://www.spcr.cz/predstaveni-singapurskeho-fintechoveho-ekosystemu
DTSTART:20240123T090000
DTEND:20240123T103000
LOCATION:
END:VEVENT
END:VCALENDAR
