BEGIN:VCALENDAR
PRODID:-//eluceo/ical//2.0/EN
VERSION:2.0
CALSCALE:GREGORIAN
BEGIN:VEVENT
UID:72594544f6709f9c38b1169810cddb4b
DTSTAMP:20260423T145026Z
SUMMARY:HOLIDAY WORLD & REGION WORLD
DESCRIPTION:Název akce: HOLIDAY WORLD & REGION WORLD\nURL: https://www.spc
 r.cz/holiday-world-region-world\nPopis: \n\nNavštivte 32. ročník mezin
 árodního veletrhu cestovního ruchu a regionální turistiky\, který pa
 tří k nejvýznamnějším událostem svého druhu nejen v České republ
 ice\, ale i v regionu střední Evropy.\n\nPodrobnosti o veletrhu najdete 
 na holidayworld.cz.\n\nSvaz průmyslu a dopravy ČR udělili veletrhu zá
 štitu.\n
URL:https://www.spcr.cz/holiday-world-region-world
DTSTART:20240315T000000
DTEND:20240317T235959
LOCATION:
END:VEVENT
END:VCALENDAR
