BEGIN:VCALENDAR
PRODID:-//eluceo/ical//2.0/EN
VERSION:2.0
CALSCALE:GREGORIAN
BEGIN:VEVENT
UID:1ad30cf2b641f94813f92b9d00057b3e
DTSTAMP:20260423T124857Z
SUMMARY:Kazakhstan Machinery Fair 2024
DESCRIPTION:Název akce: Kazakhstan Machinery Fair 2024\nURL: https://www.s
 pcr.cz/kazakhstan-machinery-fair-2024\nPopis: \n\nDovolujeme si vás pozva
 t na Kazakhstan Machinery Fair - unikátní mezinárodní výstavu\, slou
 žící jako hlavní událost v oblasti strojírenství a kovoobrábění 
 v Kazachstánu a Střední Asii. Akce sdružuje výrobce\, dodavatele a sp
 otřebitele nejnovějšího vybavení\, přední společnosti v oblasti st
 rojírenství a kovoobrábění i zástupce veřejného sektoru a průmysl
 ových komunit.Pro odborníky v oboru zůstává výstava nejúčinnějš
 í platformou pro rozvoj podnikání\, umožňuje výměnu znalostí a ide
 ntifikuje příležitosti k růstu.\nVíce informací o téhle výstavě m
 ůžete najít v odkazu zde\, nebo v přiloženém letáku.\nV případě 
 potřeby dalších informací se prosím obraťte na organizátory akce: E
 rlan Esim\, Exhibition Manager\, er@astana-expo.com\, nebo na Martina Nata
 falušiho: mnatafalusi@spcr.cz \n
URL:https://www.spcr.cz/kazakhstan-machinery-fair-2024
DTSTART:20240424T080000
DTEND:20240426T170000
LOCATION:
END:VEVENT
END:VCALENDAR
