BEGIN:VCALENDAR
PRODID:-//eluceo/ical//2.0/EN
VERSION:2.0
CALSCALE:GREGORIAN
BEGIN:VEVENT
UID:f406df1e5b62771d9ff94a7b484efb9b
DTSTAMP:20260423T150324Z
SUMMARY:2035 E-Mobility Taiwan
DESCRIPTION:Název akce: 2035 E-Mobility Taiwan\nURL: https://www.spcr.cz/2
 035-e-mobility-taiwan\nPopis: \n\nDovolujeme si Vás pozvat na mezinárodn
 í veletrh 2035 E-Mobility Taiwan - nejvlivnější tchajwanský veletrh
  elektrických a autonomních vozidel\, který nabízí platformu pro vyst
 avování výrobků\, semináře\, obchodní setkání a prostor pro vým
 ěnu nápadů a spolupráci\, který se bude konat v Taipei Nangang Exhibi
 tion Center od 17. dubna do 20. dubna 2024. Letos se veletrhu 2035 E-Mobil
 ity Taiwan zúčastní více než 100 vystavovatelů s 270 stánky\, kde s
 e představí nejnovější systémy a řešení pro elektrická a autonom
 ní vozidla\, včetně komunikačních subsystémů\, řídicích jednotek
 \, baterií a dalších automobilových dílů\, příslušenství a služ
 eb. Letos se nově představí také chytrá doprava (řízení dopravy a 
 parkování) a chytrá nabíjecí řešení.\nAktuální informace nalezne
 te na oficiálních webových stránkách zde.\nNa podporu účasti na tom
 to veletrhu Tchajpejská hospodářská a kulturní kancelář nabízí n
 ásledující pobídkové balíčky.\nUpozorňujeme\, že nabídky platí 
 do vyčerpání finančního rozpočtu a balíčky jsou poskytovány podle
  pořadí přijetí přihlášky.\n\nPro registraci a podání pobídkové
  přihlášky vyplňte prosím přiložený formulář "company profile 20
 35 E-Mobility Taiwan" a zašlete jej na emailovou adresu czech@sa.moea.go
 v.tw nebo cztwec01@sa.moea.org.tw .\nPro další informace neváhejte k
 ontaktovat: Tereza Šafářová\, Ekonomické oddělení\, Tchajpejská ho
 spodářská a kulturní kancelář v Praze\, tel.: (+420) 234 722 021\, n
 ebo Lukáše Bílka\, Taiwan External Trade Development Council (TAITRA) 
 Prague - CZ\, (+420) 775071885\, lukas@taitra.org.tw\n
URL:https://www.spcr.cz/2035-e-mobility-taiwan
DTSTART:20240417T080000
DTEND:20240420T170000
LOCATION:
END:VEVENT
END:VCALENDAR
