BEGIN:VCALENDAR
PRODID:-//eluceo/ical//2.0/EN
VERSION:2.0
CALSCALE:GREGORIAN
BEGIN:VEVENT
UID:e95ef11645b55e69eb2d6c52c419883f
DTSTAMP:20260423T125940Z
SUMMARY:2024 Taipei Ampa & Autotronics Taipei
DESCRIPTION:Název akce: 2024 Taipei Ampa & Autotronics Taipei\nURL: https:
 //www.spcr.cz/2024-taipei-ampa-autotronics-taipei\nPopis: \n\nDovolujeme s
 i Vás pozvat na mezinárodní veletrh 2024 TAIPEI AMPA (Automobile & Mo
 torcycle Parts & Accessories) a AUTOTRONICS TAIPEI\, druhý největší a
 utomobilový B2B veletrh v Asii\, který představuje nejnovější trendy
  v oblasti automobilů\, motocyklů a elektromobilů\, které se budou kon
 at v Taipei Nangang Exhibition Center od 17. dubna do 20. dubna 2024. Leto
 s se veletrhu TAIPEI AMPA a AUTOTRONICS TAIPEI zúčastní více než 900 
 vystavovatelů s 2.500 stánky\, kde se představí celý dodavatelský ř
 etězec automobilového průmyslu\, se zaměřením na udržitelnost a odp
 ovědnost k životnímu prostředí\, alternativní zdroje energie\, inova
 ce a nejmodernější pokroky v oblasti bezpečnosti vozidel (včetně och
 rany vozidel před kybernetickými útoky).\nAktuální informace naleznet
 e na oficiálních webových stránkách zde.\nNa podporu účasti na tomt
 o veletrhu nabízí Tchajpejská hospodářská a kulturní kancelář ná
 sledující pobídkové balíčky.\nUpozorňujeme\, že nabídky platí do
  vyčerpání finančního rozpočtu a balíčky jsou poskytovány podle p
 ořadí přijetí přihlášky.\n\nPro registraci a podání pobídkové p
 řihlášky vyplňte prosím formulář "Company Profile 2024Taipei Ampa"
   a "company profile 2024 Autotronics Taipei"  a zašlete jej na emai
 lovou adresu czech@sa.moea.gov.tw nebo cztwec01@sa.moea.org.tw \nPro dal
 ší informace neváhejte kontaktovat: Tereza Šafářová\, Ekonomické o
 ddělení\, Tchajpejská hospodářská a kulturní kancelář v Praze\, t
 el.: (+420) 234 722 021\n
URL:https://www.spcr.cz/2024-taipei-ampa-autotronics-taipei
DTSTART:20240417T080000
DTEND:20240420T170000
LOCATION:
END:VEVENT
END:VCALENDAR
