BEGIN:VCALENDAR
PRODID:-//eluceo/ical//2.0/EN
VERSION:2.0
CALSCALE:GREGORIAN
BEGIN:VEVENT
UID:d6148307c3ba392d63cc40a0af3b3710
DTSTAMP:20260423T130212Z
SUMMARY:Šikana na pracovišti\, syndrom vyhoření\, mobbing\, bossing
DESCRIPTION:Název akce: Šikana na pracovišti\, syndrom vyhoření\, mobb
 ing\, bossing\nURL: https://www.spcr.cz/sikana-na-pracovisti-syndrom-vyhor
 eni-mobbing-bossing\nPopis: \n\nDovolte nám vás srdečně pozvat na dal
 ší seminář ve spolupráci se Svazem průmyslu a dopravy České republ
 iky a se Spolkem pro rozvoj lidských zdrojů Liberec.Cena: 2900\,- Kč (v
 č. DPH) / 2300\,- Kč (vč. DPH) pro členy Krajské hospodářské komor
 y KHK\,OHK Liberec nebo SP ČRPřednášející: Julie Růžičková\, Mar
 tina Petrovičová\nRegistrujte se ZDERÁMCOVÝ PROGRAM:09:00 – 09:30 Re
 gistrace účastníků09:30 – 11:00 Uvedení do tématu\, syndrom vyhoř
 ení11:00 – 11:15 Přestávka\, občerstvení11:15 – 12:15 Klíčová 
 role řídícího pracovníka12:15 – 12:30 Přestávka\, občerstvení12
 :30 – 13:30 Jak řešit šikanu na pracovišti13:30 – 14:00 Diskuze\, 
 závěr\nPODTÉMATA: Jak může dát firma dopředu najevo\, že šikanóz
 ní chování netoleruje? Když se šikana na pracovišti vyskytne. Jak po
 stupovat? a) Když je oznamovatel znám? b) Když proběhne oznámení ano
 nymně? Koho pověřit řešením? Jaké kroky by mělo řešení obsahova
 t? Jak celý případ uzavřít? Jak a v jaké míře informovat zaměstna
 nce o (vy)řešení šikany\, na co nezapomenout? PŘEDNÁŠEJÍCÍ: Julie
  Růžičková se věnuje posledních 8 let práci v nadačním sektoru. J
 e spoluzakladatelka Filantia a Svépomocných vztahových skupin (více zd
 e) Před tím pracovala jako šéfredaktora\, tisková mluvčí a PR mana
 žerka pro projekty zaměřené na vzdělávání. Svoji kariéru odstarto
 vala ve společnosti Microsoft\, kde pracovala na obchodních a marketingo
 vých pozicích 13 let.\nMartina Petrovičová - Expertka na pomoc obětem
  trestných činů a garantka programu prevence šikany na pracovišti Fon
 du Filantia.\n
URL:https://www.spcr.cz/sikana-na-pracovisti-syndrom-vyhoreni-mobbing-bossi
 ng
DTSTART:20240219T090000
DTEND:20240219T140000
LOCATION:
END:VEVENT
END:VCALENDAR
