BEGIN:VCALENDAR
PRODID:-//eluceo/ical//2.0/EN
VERSION:2.0
CALSCALE:GREGORIAN
BEGIN:VEVENT
UID:bb92a7567a2b3be53454ab55ee3017d4
DTSTAMP:20260423T130647Z
SUMMARY:Rizikové faktory pracovního prostředí hluk a vibrace\, kategori
 zace prací svářečů  
DESCRIPTION:Název akce: Rizikové faktory pracovního prostředí hluk a v
 ibrace\, kategorizace prací svářečů  \nURL: https://www.spcr.cz/rizik
 ove-faktory-pracovniho-prostredi-hluk-vibrace-kategorizace-praci-svarecu\n
 Popis: \n\nSvaz průmyslu a dopravy České republiky\, Okresní hospodá
 řská komora Liberec\, Krajská nemocnice Liberec\, Krajská hygienická 
 stanice Libereckého kraje a Spolek pro rozvoj lidských zdrojů Liberec v
 ás srdečně zvou na seminář „RIZIKOVÉ FAKTORY PRACOVNÍHO PROSTŘED
 Í HLUK A VIBRACE\, KATEGORIZACE PRACÍ SVÁŘEČŮ“.Cena: 1300\,- Kč (
 + DPH) / 900\,- Kč (+ DPH) pro členy Krajské hospodářské komory KHK\
 , OHK Liberec nebo SP ČR\nRegistrace: Na seminář se prosím registrujte
  ZDE do 19.01.2024PROGRAM:08:30 – 09:00 Registrace účastníků09:00 
 – 09:10 Zahájení semináře – regionální manažerka Svazu průmysl
 u a dopravy Naďa Vojtíšková\, ředitelka Krajské hygienické stanice 
 Libereckého kraje se sídlem v Liberci Jana Loosová\,ředitel Okresní h
 ospodářské komory Liberec Martin Procházka09:10 – 09:40 Kategorizace
  práce svářeče\, rizikové faktory\, minimální opatření k ochraně
  zdraví při práci – Ing. Kateřina Forysová\, Ph.D (Krajská hygieni
 cká stanice Libereckého kraje se sídlem v Liberci)09:40 – 10:25 Měř
 ení rizikových faktorů (hluk\, vibrace\, svářečské dýmy\, kovy) v 
 pracovním prostředí – Ing. Petr Mrázek Ph. D.\, Renata Víšková (Z
 dravotní ústav se sídlem v Ústí nad Labem)10:25 – 10:50 Coffee brea
 k10:50 – 11:20 Zdravotní způsobilost k práci svářeče – MUDr. Vra
 tislav Prejzek – poskytovatel pracovnělékařských služeb11:20 – 11
 :50 Zkušenosti z praxe – zástupci zaměstnavatelů BENTELER ČR s.r.o.
 \, ALSTOM Czech Republic a.s.11:50 – 12:00 Diskuze\n
URL:https://www.spcr.cz/rizikove-faktory-pracovniho-prostredi-hluk-vibrace-
 kategorizace-praci-svarecu
DTSTART:20240125T083000
DTEND:20240125T120000
LOCATION:
END:VEVENT
END:VCALENDAR
