BEGIN:VCALENDAR
PRODID:-//eluceo/ical//2.0/EN
VERSION:2.0
CALSCALE:GREGORIAN
BEGIN:VEVENT
UID:d6d197606a31df7aec09bedc864fd905
DTSTAMP:20260423T125219Z
SUMMARY:Vietnam International Sourcing Expo 2024
DESCRIPTION:Název akce: Vietnam International Sourcing Expo 2024\nURL: htt
 ps://www.spcr.cz/vietnam-international-sourcing-expo-2024\nPopis: \n\nFor 
 your information\, attached herewith is an information about Vietnam Inter
 national Sourcing Expo 2024\, a second edition of event for Vietnamese ex
 porters as well as for foreign companies\, which interested in providing 
 inputs\, machines or technology for manufacturers in Vietnam to display th
 eir products\, services\; or just to visit and network with potential bus
 iness partners. \n\nLast year we had among other participants many foreign
  participants\, some of them are: Boeing\, Google\, Amazon\, UNIQLO\, Cen
 tral Group\, IKEA\, LULU\, Walmart\, Carrefour\, Decathlon ... This year\
 , the event's size is expected to be doubled that of the previous one. T
 he event will be held from 06 to 08 June 2024 in Ho Chi Minh City. \n\nFur
 ther information is available on the following link: https://vietnamsourc
 ingexpo.vn/en/\n
URL:https://www.spcr.cz/vietnam-international-sourcing-expo-2024
DTSTART:20240606T080000
DTEND:20240608T170000
LOCATION:
END:VEVENT
END:VCALENDAR
