BEGIN:VCALENDAR
PRODID:-//eluceo/ical//2.0/EN
VERSION:2.0
CALSCALE:GREGORIAN
BEGIN:VEVENT
UID:289e4dfbd751ab4df8fc4bfcd62f7d50
DTSTAMP:20260423T124856Z
SUMMARY:Podnikatelská mise na Ukrajinu
DESCRIPTION:Název akce: Podnikatelská mise na Ukrajinu\nURL: https://www.
 spcr.cz/podnikatelska-mise-na-ukrajinu\nPopis: \n\nSvaz průmyslu a doprav
 y ČR a Hospodářská komora ČR si Vás dovolují informovat\, že ve dn
 ech 10. – 16. února 2024 se bude konat cesta vládního zmocněnce Tom
 áše Kopečného na Ukrajinu s doprovodnou business delegací.\nNa progr
 amu cesty budou podnikatelská fóra\, B2B networking/matchmaking a dalš
 í doprovodné programy v navštívených lokalitách\, které umožní p
 rohloubení a navázání kontaktů s místním podnikatelským prostřed
 ím. \nPrioritními sektory pro tuto podnikatelskou misi jsou energetika\
 , doprava a zdravotnictví. Mise je rovněž určena firmám\, které již
  mají na Ukrajině rozjednané konkrétní projekty\, bez ohledu na sekto
 r.\nCesta se uskuteční vlaky\, většinou nočními lůžkovými\, míst
 ní transfery pak pronajatým autobusem. Vzhledem k  délce i náplni pro
 gramu prosíme\, abyste vzali na vědomí očekávanou fyzickou a logistic
 kou náročnost mise. \n\nPředběžný harmonogram mise:\n\nsobota\, 10.
 2.2024 večer - odjezd vlakem z Prahy\;\nneděle\, 11.2.2024 - příjezd d
 o Kyjeva\;\npondělí\, 12.2.2024 - program v Kyjevě\;\núterý\, 13.2.20
 24 - program v Kyjevě\, přesun do Dnipra\;\nstředa\, 14.2.2024 - progr
 am v Dnipru\;\nčtvrtek\, 15.2.2024 - Krivij Rih\;\npátek\, 16.2.2024 - n
 ávrat do ČR.\n\nHlavním komunikačním jazykem bude angličtina a ukraj
 inština/ruština. Dovolujeme si upozornit na nutnost jazykové vybavenost
 i. Z organizačních důvodů bude zajištěna pouze omezená podpora tlu
 močení z ukrajinštiny do angličtiny.\nZáloha na účastnický poplat
 ek činí 1 520 EUR / 37.400\,- Kč  a zahrnuje ubytování\, transfery
 \, pronájmy prostor\, catering\, organizace firemních jednání\, organi
 zační náklady spojené s přípravou mise a služby po dobu mise. Člen
 ové HK ČR/SP ČR mají slevu na účastnickém poplatku ve výši 10 % 
 – tzn. 1. 368 EUR\, resp. 33.660\,- Kč.\nV případě zájmu o účast
  na této misi Vás žádáme o následující:\n\nzašlete vyplněnou\, p
 odepsanou a naskenovanou závaznou přihlášku\nvyplňte firemní profil 
 v Aj \nzašlete vyplněný snímek pro prezentaci \nzašlete sken cestovn
 ího pasu (strana s fotografií\; platnost pasu min. 6 měsíců po návra
 tu zpět do ČR)\nzašlete foto účastníka v min. rozlišení 600×800 p
 ixelů\, 500 kB pro připravovaný katalog firem\nzašlete vyplněné\, po
 depsané a naskenované čestné prohlášení\n\nDokumenty zašlete na e-
 mail langerova@komora.cz\, v kopii na e-mail mrazova@komora.cz\, a to nejp
 ozději do pátku 19. ledna 2024.Vzhledem k potřebné přípravě a omeze
 né kapacitě mise Vám doporučujeme přihlásit se co nejdříve. Členo
 vé SP ČR mohou kontaktovat organizátory také na e-mailu ijavorova@spcr
 .cz a hkotkova@spcr.cz.\n
URL:https://www.spcr.cz/podnikatelska-mise-na-ukrajinu
DTSTART:20240210T000000
DTEND:20240216T235959
LOCATION:
END:VEVENT
END:VCALENDAR
