BEGIN:VCALENDAR
PRODID:-//eluceo/ical//2.0/EN
VERSION:2.0
CALSCALE:GREGORIAN
BEGIN:VEVENT
UID:49bba536e4197f4d11b959b5dac7d6bf
DTSTAMP:20260423T125705Z
SUMMARY:Kategorizace prací od A po Z (Hradec Králové)
DESCRIPTION:Název akce: Kategorizace prací od A po Z (Hradec Králové)\n
 URL: https://www.spcr.cz/kategorizace-praci-od-po-z-hradec-kralove\nPopis:
  \n\nSvaz průmyslu a dopravy České republiky a Krajská hospodářská 
 komora Královéhradeckého kraje vás srdečně zvou na seminář\n \nM
 ísto: Zasedací místnost (3. patro) Krajské hospodářské komory Král
 ovéhradeckého kraje\, Škroupova 957\, Hradec Králové\n\nCena: 2500\,-
  Kč (+ DPH) / 1900\,- Kč (+ DPH) pro členy Krajské hospodářské komo
 ry KHK\, OHK Liberec nebo SP ČR\nRegistrace: Na seminář se prosím reg
 istrujte do 11. dubna 2024 ZDEPROGRAM:09:30 - 10:00 Registrace účastní
 ků10:00 - 10:15 Úvodní slovo - zahájení10:15 - 11:00 KATEGORIZACE - s
 ouvislosti a návaznosti v pracovnímlékařství - MUDr. Vladimíra Lipš
 ová (Státní zdravotní ústav)11:00 - 12:30 KATEGORIZACE - ve vztahu k 
 jednotlivým rizikovým faktorům\,návrh na zařazení prací do kategori
 í\, požadavky na měření rizikových faktorů- MUDr. Gacka Slavíková
  (Hygienická stanice hlavního města Prahy)12:30 - 13:00 Občerstvení13
 :00 - 13:15 REGISTR KATEGORIZACÍ PRACÍ “KaPr” - evidence prací\,sta
 tistické údaje - Mgr. Jana Zocová (Státní zdravotní ústav)13:15 - 1
 3:30 NÁRODNÍ REGISTR NEMOCÍ Z POVOLÁNÍ - evidencehlášených nemocí
  z povolání\, statistické údaje - Bc. Michaela Voříšková(Státní 
 zdravotní ústav)13:30 - 13:45 DALŠÍ SMĚŘOVÁNÍ KATEGORIZACE PRACÍ 
 - Ing. PavelHlaváč (Krajská hygienická stanice Královéhradeckého kr
 aje se sídlem vHradci Králové)13:45 - 14:00 Diskuze\, dotazy\, závěr\
 n\nVíce informací naleznete v přiložené pozvánce.\n
URL:https://www.spcr.cz/kategorizace-praci-od-po-z-hradec-kralove
DTSTART:20240415T093000
DTEND:20240415T140000
LOCATION:
END:VEVENT
END:VCALENDAR
