BEGIN:VCALENDAR
PRODID:-//eluceo/ical//2.0/EN
VERSION:2.0
CALSCALE:GREGORIAN
BEGIN:VEVENT
UID:e0566217870e0c5ae6cbeade6c02fb19
DTSTAMP:20260423T125529Z
SUMMARY:Bridging Europe and China: SME Innovation in the Greater Bay Area
DESCRIPTION:Název akce: Bridging Europe and China: SME Innovation in the G
 reater Bay Area\nURL: https://www.spcr.cz/bridging-europe-and-china-sme-in
 novation-greater-bay-area\nPopis: \n\nWednesday 20 DecemberOnline & in Gua
 ngzhou9:00 – 10:30 Brussels Time16:00 – 17:30 Beijing Time\nThe EU SME
  Centre and the European Union Chamber of Commerce in China are pleased to
  invite European SMEs to delve into the vibrant world of SME innovation wi
 thin the Greater Bay Area and understand how this pivotal hub is key to th
 e building of new connections between China and Europe. This event will lo
 ok into the diverse urban and regional landscapes of innovation\, with Eur
 opean company representatives sharing their experiences in the region. AND
 RITZ China will explain how they are fostering innovation in the Greater B
 ay Area\, building strategic alliances with promising SMEs\, and facilitat
 ing mutual growth with emerging companies. Arne Weber\, the visionary foun
 der of Faytech AG\, will share his journey of transforming a start-up into
  a global enterprise with a turnover of 50 million USD and a team of over 
 300 worldwide in just a decade.This event is free of charge and open to al
 l SMEs from EU Member States and countries participating in the Single Mar
 ket Programme. The workshop will take place online and onsite in Guangzhou
 .\nRegistration link: HERE\n
URL:https://www.spcr.cz/bridging-europe-and-china-sme-innovation-greater-ba
 y-area
DTSTART:20231220T090000
DTEND:20231220T103000
LOCATION:
END:VEVENT
END:VCALENDAR
