BEGIN:VCALENDAR
PRODID:-//eluceo/ical//2.0/EN
VERSION:2.0
CALSCALE:GREGORIAN
BEGIN:VEVENT
UID:66cdae6dd086fc82a56cb7116e17a20e
DTSTAMP:20260423T125843Z
SUMMARY:Ukrajina: workshop o předcházení rizikům při podnikání
DESCRIPTION:Název akce: Ukrajina: workshop o předcházení rizikům při 
 podnikání\nURL: https://www.spcr.cz/ukrajina-workshop-o-predchazeni-rizi
 kum-pri-podnikani\nPopis: \n\nVážení zástupci firem\, členové Busine
 ss klubu Ukrajina\,\nzveme Vás ke druhému workshopu o předcházení riz
 ikům při podnikání\, který se bude konat 6. 12. 2023 od 14:00 do 15:3
 0 v prostorách Ministerstva průmyslu a obchodu na adrese Politických 
 vězňů 20.\nTento workshop spojuje seminář s praktickými cvičeními 
 a zaměřuje se na poskytování užitečných informací a ověřených
  postupů\, které vám pomohou minimalizovat rizika ve vašem podnikání
 \, vyplývající z aktivity různých rizikových aktérů\, ať už stá
 tních či nestátních\, v mezinárodním prostředí. Workshop nabízí 
 jedinečnou příležitost k výměně zkušeností a kontaktů s odborní
 ky z bezpečnostní komunity i s dalšími zástupci firem. Zároveň vám
  umožní načerpat poznatky\, které budete moci následně využít pro
  nastavení bezpečnostních postupů ve Vaší společnosti a posílit ta
 k její odolnost vůči různým hrozbám.\nVzhledem k omezenému počtu m
 íst Vás žádáme\, abyste potvrdili svou účast co nejdříve na e-m
 ailovou adresu: ukrajina@mpo.cz. Uzávěrka přihlášek je 4.12.2023.\nD
 ovolujeme si upozornit\, že účast na workshopu je zdarma a pozvánka 
 platí pouze pro členy Business klubu Ukrajina.\n
URL:https://www.spcr.cz/ukrajina-workshop-o-predchazeni-rizikum-pri-podnika
 ni
DTSTART:20231206T140000
DTEND:20231206T153000
LOCATION:
END:VEVENT
END:VCALENDAR
