BEGIN:VCALENDAR
PRODID:-//eluceo/ical//2.0/EN
VERSION:2.0
CALSCALE:GREGORIAN
BEGIN:VEVENT
UID:89983d987cd9861b173f130e8a2c1ac1
DTSTAMP:20260423T094711Z
SUMMARY:Edukační seminář Evropské Investiční Banky - rekonstrukce Uk
 rajiny
DESCRIPTION:Název akce: Edukační seminář Evropské Investiční Banky 
 - rekonstrukce Ukrajiny\nURL: https://www.spcr.cz/edukacni-seminar-evropsk
 e-investicni-banky-rekonstrukce-ukrajiny\nPopis: \n\nSvaz průmyslu a dopr
 avy ČR\, Hospodářská komora a Ukrajinsko-česká obchodní komora si
  Vás dovolují pozvat na edukační seminář Ministerstva zahraniční
 ch věcí ČR k možnostem zapojení českých firem do rekonstrukce Ukra
 jiny ve spolupráci s Evropskou Investiční Bankou (EIB). Seminář se k
 oná pod záštitou vládního zmocněnce pro rekonstrukci Ukrajiny\, Tom
 áše Kopečného.\nSeminář proběhne ve Velkém sále Černínského p
 aláce dne 13.12.2023 za osobní účasti zástupců Evropské Investičn
 í Banky\, MF\, MZV a dalších zástupců klíčových institucí\, či v
  hybridní formě prostřednictvím platformy MS Teams.\nProgram semin
 áře:8:30–9:00        Registrace9:00–9:10        Úvodn
 í slovo\n\nTomáš Kopečný\, vládní zmocněnec pro rekonstrukci Ukraj
 iny\nZuzana Matyášová\, ředitelka odboru Mezinárodní vztahy Minister
 stva financí ČR\nAndrea Ferjenčíková\, zástupkyňe skupiny EIB v Č
 R\n\n 9:10–9:35        Aktivity EIB na Ukrajině\n\nSven Röben\
 , Principal Advisor\, Ukraine Team\, EIB Global\n\n9:35–10:15     
  Možnosti pro české firmy – Veřejné zakázky v rámci EIB technick
 é pomoci\n\nJean-Baptiste Laffitte\, Technical Assistance Officer\, EIB 
 Global\n\n10:15–10:30    Q&A session\n\nJean-Baptiste Laffitte\, Tec
 hnical Assistance Officer\, EIB Global a\nSven Röben\, Principal Advisor
 \, Ukraine Team\, EIB Global\n\n10:30–10:45    Přestávka na kávu 
 10:45–12:15    Možnosti pro české firmy – Veřejné zakázky k
  projektům EIB – část I. včetně Q&A\n\n Andreja Neral Lamza\, P
 rocurement Specialist\, DG Projects\, EIB\n\n12:15–13:00    Přestáv
 ka na kávu/oběd 13:00–14:30    Veřejné zakázky k projektům E
 IB (práce a služby) - část II. včetně Q&A \n\nAndreja Neral Lamza\
 , Procurement Specialist\, DG Projects\, EIB\n\nSeminář je zdarma. \nO
 bčerstvení bude zajištěno (během semináře nápoje a drobné občers
 tvení + oběd formou rautu přímo v místě konání).V případě zájm
 u prosíme o registraci. Registrace k semináři bude otevřena do 10.12
 .2023 do 15:00.\nV případě dotazů se prosím obraťte na Jana Liebic
 ha: liebich.jan@vlada.cz.\n
URL:https://www.spcr.cz/edukacni-seminar-evropske-investicni-banky-rekonstr
 ukce-ukrajiny
DTSTART:20231213T090000
DTEND:20231213T143000
LOCATION:
END:VEVENT
END:VCALENDAR
