BEGIN:VCALENDAR
PRODID:-//eluceo/ical//2.0/EN
VERSION:2.0
CALSCALE:GREGORIAN
BEGIN:VEVENT
UID:2ccc8740e83511a0555684f0b85b4649
DTSTAMP:20260423T150133Z
SUMMARY:IRAN Expo 2024
DESCRIPTION:Název akce: IRAN Expo 2024\nURL: https://www.spcr.cz/iran-expo
 -2024\nPopis: \n\nPoznámka k 9.4: pokud máte zájem o účast\, íránsk
 á strana je připravena pokrýt náklady na ubytování\, stravné a vnit
 řní dopravu. Kontaktní osoba: Kioumars Kazemi\, head of Economic Depart
 ment Iran Embassy in Prague\, +420 605 597 908 nebo kazemimfa2021@gmail.co
 m\nThe Economic Department of the Embassy of the Islamic Republic of Iran 
 presents its compliments to the Ministry of Industry and Trade of the Czec
 h Republicand has the honor to inform that: The 6th Intemational Exhibitio
 n IRAN Expo 2024 will be held from 27 April to 1 May\, 2024 at Tehran Inte
 rnational Permanent Fairground.\nThe webpage of aforementionedexhibition i
 s as follow: www.irantsn.com.\nOn-line registration.More information: IRA
 NEXPO 2024Email: registration@irantsn.com\n\n \n
URL:https://www.spcr.cz/iran-expo-2024
DTSTART:20240427T000000
DTEND:20240501T235959
LOCATION:
END:VEVENT
END:VCALENDAR
