BEGIN:VCALENDAR
PRODID:-//eluceo/ical//2.0/EN
VERSION:2.0
CALSCALE:GREGORIAN
BEGIN:VEVENT
UID:30147ba9c800c16e29500a767c080915
DTSTAMP:20260423T130319Z
SUMMARY:Setkání se skupinou podnikatelů z Uzbekistánu
DESCRIPTION:Název akce: Setkání se skupinou podnikatelů z Uzbekistánu\
 nURL: https://www.spcr.cz/setkani-se-skupinou-podnikatelu-z-uzbekistanu\nP
 opis: \n\nDne 19. prosince 2023 od 14.00 hodin se v prostorách Ministers
 tva průmyslu a obchodu ČR (na adrese Politických vězňů 20\, Praha 1)
  uskuteční setkání se skupinou podnikatelů z Uzbekistánu.\nDelegac
 e bude vedena představiteli Obchodní a průmyslové rady Uzbekistánu a 
 bude ji doprovázet Generální konzul Uzbekistánu ve Frankfurtu.\nKromě
  několika krátkých prezentací Vám bude nabídnuta možnost osobního 
 setkání jak se zúčastněnými uzbeckými podnikateli\, tak se zástupc
 i výše uvedené organizace či MZV Uzbekistánu. Přítomni budou také 
 pracovníci útvaru Ministerstva průmyslu a obchodu ČR\, zpracovávajíc
 í agendu států východní Evropy\, střední Asie a dalších evropský
 ch zemí\, nečlenů EU.\nPo dohodě s uzbeckou stranou bude jednacím j
 azykem ruština. Malé pohoštění pro účastníky akce je zajištěno.\
 nV případě zájmu prosíme o zaslání vyplněné přihlášky na emai
 l: masopust@komorasns.czPřihláška je ke stažení zde. Uzávěrka přih
 lášek je 15.12.2023.\n
URL:https://www.spcr.cz/setkani-se-skupinou-podnikatelu-z-uzbekistanu
DTSTART:20231219T140000
DTEND:20231219T170000
LOCATION:
END:VEVENT
END:VCALENDAR
