BEGIN:VCALENDAR
PRODID:-//eluceo/ical//2.0/EN
VERSION:2.0
CALSCALE:GREGORIAN
BEGIN:VEVENT
UID:ba1931b062b24aaffd4ba22139d0548d
DTSTAMP:20260423T124759Z
SUMMARY:30 years on\, it's time for an EU Single Market that really works
DESCRIPTION:Název akce: 30 years on\, it's time for an EU Single Market th
 at really works\nURL: https://www.spcr.cz/30-years-its-time-eu-single-mark
 et-really-works\nPopis: \n\n30 years on\, it's time for an EU Single Marke
 t that really works - A little less conversation\, much more action?\n \n
 As the EU Single Market celebrates its 30th anniversary and the European C
 ouncil acknowledged there was “unfinished business” with the Single Ma
 rket\, the business community is organising a special event to discuss how
  best to renew its success and revive the dynamic of EU economic integrati
 on and convergence.\nOne of the event organizers is also BusinessEurope\, 
 in which Confederation of Industry is an active member. \nLink to registr
 ation: HERE\n \n
URL:https://www.spcr.cz/30-years-its-time-eu-single-market-really-works
DTSTART:20231128T163000
DTEND:20231128T183000
LOCATION:
END:VEVENT
END:VCALENDAR
