BEGIN:VCALENDAR
PRODID:-//eluceo/ical//2.0/EN
VERSION:2.0
CALSCALE:GREGORIAN
BEGIN:VEVENT
UID:de475ec7c3eb15c0bc858ac0d97a055b
DTSTAMP:20260423T145939Z
SUMMARY:China for First-Time Exporters: How to Approach the Chinese Market
DESCRIPTION:Název akce: China for First-Time Exporters: How to Approach th
 e Chinese Market\nURL: https://www.spcr.cz/china-first-time-exporters-how-
 approach-chinese-market\nPopis: \n\nRegistration link: here\n\n\n\n\nEurop
 ean SMEs face a significant opportunity as well as a formidable challenge 
 when they consider entering the Chinese market. Lack of substantial resour
 ces and experience can make navigating the intricate regulatory and cultur
 al landscape of China a daunting task. Notably\, customs regulations\, cer
 tification prerequisites\, and licensing procedures pose frequent hurdles.
  Building relationships with Chinese partners and attracting customers’ 
 interest can also prove difficult.\nOn 24 November\, the EU SME Centre and
  Voka – Flanders’ Chamber of Commerce and Industry are organising a 
 webinar to give European SMEs an informative overview of the Chinese marke
 t. The event aims to give new exporters the knowledge necessary to conduct
  business in China\, with a focus on partner identification and contract s
 igning.\nThe webinar will feature practical cases highlighting the primary
  challenges faced by EU SMEs and essential precautions to mitigate potenti
 al issues.\n\n\n\n\n\n\nAgenda(Brussels Time)\n9:00 – 9:20\nWelcoming re
 marksEU SME Centre introductionVoka introduction\n9:20 – 10:00\nHow to A
 pproach the Chinese Market: Peculiarities and TrendsAlessio Petino\, Busi
 ness Advisor\, EU SME Centre\n10:00 – 10:30\nQ&A session\nContact: info
 @eusmecentre.org.cn\n
URL:https://www.spcr.cz/china-first-time-exporters-how-approach-chinese-mar
 ket
DTSTART:20231124T090000
DTEND:20231124T103000
LOCATION:
END:VEVENT
END:VCALENDAR
