BEGIN:VCALENDAR
PRODID:-//eluceo/ical//2.0/EN
VERSION:2.0
CALSCALE:GREGORIAN
BEGIN:VEVENT
UID:e8825fc18bf620ba091612d48bd26b8b
DTSTAMP:20260423T125849Z
SUMMARY:Diisokyanáty v pracovním prostředí
DESCRIPTION:Název akce: Diisokyanáty v pracovním prostředí\nURL: https
 ://www.spcr.cz/diisokyanaty-v-pracovnim-prostredi\nPopis: \n\nSvaz průmys
 lu a dopravy České republiky\, Okresní hospodářská komora Liberec\, 
 Krajská nemocnice Liberec\, Krajská hygienická stanice Libereckého kra
 je a Spolek pro rozvoj lidských zdrojů Liberec vás srdečně zvou na se
 minář DIISOKYANÁTY V PRACOVNÍM PROSTŘEDÍ.\nCENA: 1290\,- Kč (vč. D
 PH) / 990\,- Kč (vč. DPH) pro členy Krajské hospodářské komory KHK\
 , OHK Liberec nebo SP ČR\nMísto konání:\nKrajská nemocnice LiberecHus
 ova 357/10\, 460 63 Liberec\nPřednáškový sál pavilon “P”\nPROGRAM
 : 09:30 - 10:00 Registrace účastníků 10:00 - 10:20 Úvodní slovo - Pa
 vla Svrčinová - hlavní hygienička ČR s postavením vrchní ředitelky
  pro ochranu a podporu veřejného zdraví\, Jana Loosová - ředitelka KH
 S LK\, Naďa Vojtíšková - regionální manažerka pro Liberecký a Krá
 lovéhradecký Kraj - SP ČR\, Martin Procházka - ředitel OHK Liberec 10
 :20 - 10:30 Nařízení komise (EU) 2020/1149\, kterým se se mění pří
 loha XVII nařízení Evropského parlamentu a Rady (ES) č.1907/2006\, po
 kud jde o isokyanáty - Aneta Kovářová - oddělení hygieny práce a pr
 acovního lékařství - MZ 10:30 - 12:00 - Diisokyanáty na pracovištíc
 h\, biomonitoring diisokyanátů – řešení cíleného státního zdrav
 otního dozoru 2022 - Jaroslav Mráz - Oddělení pro hodnocení expozice 
 chemickým látkám na pracovišti - Státní zdravotní ústav Praha12:00
  - 12:30 - OBČERSTVENÍ 12:30 - 13:00 Kategorizace práce s diisokyanáty
  a hygienické požadavky na pracoviště\, pracovnělékařské prohlídk
 y a nemoci z povolání - Kateřina Forysová - ředitelka odboru hygieny 
 práce - Krajská hygienická stanice LK Dana Čermáková - vedoucí odd
 ělení nemocí z povolání - KNL 13:00 - 13:15 Zkušenosti z praxe - zá
 stupci zaměstnavatelů  Iveta Tauchmanová - Preciosa a.s. Anna Erlebacho
 vá - Grupo Antolin Bohemia a.s. Jan Krotil - Fehrer Bohemia s.r.o.\n13:15
  - 13:30 Diskuze__________________________________________________________
 ______________________Registrace na akci je možná ZDE\, více informací
  naleznete v přiložené pozvánce.\n
URL:https://www.spcr.cz/diisokyanaty-v-pracovnim-prostredi
DTSTART:20231207T100000
DTEND:20231207T133000
LOCATION:
END:VEVENT
END:VCALENDAR
