BEGIN:VCALENDAR
PRODID:-//eluceo/ical//2.0/EN
VERSION:2.0
CALSCALE:GREGORIAN
BEGIN:VEVENT
UID:099c82498b75282d68e1151a2caf272d
DTSTAMP:20260423T145939Z
SUMMARY:5th UfM Trade and Investment Forum
DESCRIPTION:Název akce: 5th UfM Trade and Investment Forum\nURL: https://w
 ww.spcr.cz/5th-ufm-trade-and-investment-forum\nPopis: \n\nOn 4 December 20
 23\, the Union for the Mediterranean (UfM)\, with support of the German De
 velopment Cooperation\, is hosting the 5th UfM Trade and Investment Foru
 m in Brussels. \nWith speakers such as government ministers\, representa
 tives of the EBRD and the ILO\, the Forum will feature a broad spectrum of
  stakeholders from all corners of the Mediterranean region. It will be an 
 opportunity to debate the regional Team Europe Initiative “Jobs through 
 Trade and Investment in the Southern Neighbourhood”\, which is based on 
 three pillars: Sustainable Trade and Investment\, Vocational Training and 
 Skills\, and Inclusive Entrepreneurship.\nSimultaneous interpretation into
  Arabic\, English and French will be available during the event.\nRegistra
 tion is done through the following link and more information is availabl
 e on the website here.\n
URL:https://www.spcr.cz/5th-ufm-trade-and-investment-forum
DTSTART:20231204T080000
DTEND:20231204T235959
LOCATION:
END:VEVENT
END:VCALENDAR
