BEGIN:VCALENDAR
PRODID:-//eluceo/ical//2.0/EN
VERSION:2.0
CALSCALE:GREGORIAN
BEGIN:VEVENT
UID:3688d19fb6c786b2f8813ffe39eaa0b7
DTSTAMP:20260423T145950Z
SUMMARY:Konzultace se zemědělskými diplomaty a zahraničními spolupraco
 vníky MZe
DESCRIPTION:Název akce: Konzultace se zemědělskými diplomaty a zahrani
 čními spolupracovníky MZe\nURL: https://www.spcr.cz/konzultace-se-zemed
 elskymi-diplomaty-zahranicnimi-spolupracovniky-mze\nPopis: \n\nMinisterstv
 o zemědělství Vás zve na Konzultace se zemědělskými diplomaty a za
 hraničními spolupracovníky MZe (Čína\, Japonsko\, Kanada\, SAE\, Srb
 sko\, USA\, Ukrajina\, Kazachstán\, Velká Británie\, Vietnam). \nBudet
 e mít příležitost prodiskutovat konkrétní témata\, která Vás z da
 ného teritoria zajímají a domluvit si případnou další spolupráci p
 ři Vašem exportu.Jednotlivé schůzky mají časovou dotaci 20 min. Úč
 ast je zdarma.V případě zájmu\, prosím\, kontaktujte paní Zuzanu Her
 cíkovou na email: zuzana.hercikova@mze.cz nebo volejte na tel. 221 812 86
 8\, a to nejpozději do 30. listopadu 2023.Nezapomeňte uvést své jmén
 o\, název společnosti\, kterou zastupujete\, s kým máte zájem se setk
 at a preferovaný čas schůzky.Účast na setkání je omezena kapacitou 
 a podmíněna potvrzením schůzky ze strany Ministerstva zemědělství.D
 iskutovat můžete se:\n\nzemědělským diplomatem v Číně Ondřejem Pl
 ačkem\,\nzemědělskou diplomatkou v Japonsku Irenou Leopoldovou\,\nzemě
 dělským diplomatem v Kanadě Filipem Lamešem\,\nzemědělským diplomat
 em v SAE Lukášem Zamrzlou\,\nzemědělským diplomatem v Srbsku Vladimí
 rem Váňou\,\nzemědělskou diplomatkou v USA Terezou Černou\,\nzemědě
 lským diplomatem na Ukrajině Petrem Sochorem\,\nzahraničním spolupraco
 vníkem MZe v Kazachstánu Artyomem Lukashovem\,\nzahraničním spolupraco
 vníkem MZe ve Velké Británii Paulem Wilkinsem\,\nzahraničním spolupra
 covníkem MZe ve Vietnamu Lubošem Markem\,\na zástupcem Exportní garan
 ční a pojišťovací společnosti (EGAP) Jiřím Šrámkem.\n
URL:https://www.spcr.cz/konzultace-se-zemedelskymi-diplomaty-zahranicnimi-s
 polupracovniky-mze
DTSTART:20231205T083000
DTEND:20231205T170000
LOCATION:
END:VEVENT
END:VCALENDAR
