BEGIN:VCALENDAR
PRODID:-//eluceo/ical//2.0/EN
VERSION:2.0
CALSCALE:GREGORIAN
BEGIN:VEVENT
UID:30755f4cb68f2efb9ce708fd1c9735cd
DTSTAMP:20260423T130647Z
SUMMARY:Konsolidační balíček – Jaké daňové změny čekají firmy v
  příštím roce
DESCRIPTION:Název akce: Konsolidační balíček – Jaké daňové změny
  čekají firmy v příštím roce\nURL: https://www.spcr.cz/konsolidacni-
 balicek-jake-danove-zmeny-cekaji-firmy-v-pristim-roce\nPopis: \n\nFináln
 í fází legislativního procesu nyní prochází zákon o konsolidaci ve
 řejných rozpočtů\, jež obsahuje řadu daňových změn. Velká část
  těchto úprav se dotkne firem\, přičemž se očekává\, že nová leg
 islativa nabyde platnosti až koncem roku - jen pár týdnů před účinn
 ostí velké části změn.Svaz průmyslu a dopravy ČR proto připravil s
 eminář ke změnám v daňových oblastech\, které firmy čekají. Krom
 ě změny sazeb u DPPO či DPH budou například platit nová pravidla da
 ňové uznatelnosti zaměstnaneckých benefitů\, možnost vedení a daňo
 vé evidence v cizí měně (EUR\, GBP\, USD)\, omezení daňové uznateln
 osti nákupu osobních automobilů a řada dalších změn.\nRegistrovat s
 e můžete zde. Rámcový program:8:45-9:00 registrace9.00-9.20 Úvod a sh
 rnutí hlavních dopadů konsolidačního balíčku na podnikatele (Bohusl
 av Čížek a Jiří Nekovář – Svaz průmyslu a dopravy ČR)9.20-10:20
  Podrobnější představení hlavních změn ze strany ministerstva finan
 cí (Vrchní ředitel Stanislav Kouba a další zástupce Ministerstva fin
 ancí)10:20-11:00 Daňová uznatelnost zaměstnaneckých benefitů a strav
 ování\, připravované výklady (Stanislav Kouba a další zástupce Min
 isterstva financí)11:00-11:45 Dopady konsolidačního balíčku na firmy 
 v ČR – nové povinnosti a praktické aspekty u konkrétního podniku (L
 enka Nováková – Komora daňových poradců ČR\, Martin Jareš – Phi
 llip Morris\, Tax Comittee - BIAC)11:45-12:15 Prostor pro diskusi\, dotazy
 \n
URL:https://www.spcr.cz/konsolidacni-balicek-jake-danove-zmeny-cekaji-firmy
 -v-pristim-roce
DTSTART:20231204T090000
DTEND:20231204T121500
LOCATION:
END:VEVENT
END:VCALENDAR
