BEGIN:VCALENDAR
PRODID:-//eluceo/ical//2.0/EN
VERSION:2.0
CALSCALE:GREGORIAN
BEGIN:VEVENT
UID:aa30c9a8ba8d1b4db7674ed2ef72b0b5
DTSTAMP:20260423T125059Z
SUMMARY:Konference Průmysl 4.0 v praxi
DESCRIPTION:Název akce: Konference Průmysl 4.0 v praxi\nURL: https://www.
 spcr.cz/konference-prumysl-40-v-praxi-0\nPopis: \n\nZveme vás na konferen
 ci „Průmysl 4.0 v praxi“ pořádané Svazem průmyslu a dopravy ČR 
 a Národním centrem Průmyslu 4.0\, kde se seznámíte se s výsledky pr
 ůzkumu SP ČR a NCP 4.0 ke stavu Průmyslu 4.0 ve firmách v Česku. Pře
 dstavíme vám nejlepší firemních projektů v rámci Ceny za Průmysl 
 4.0. Během komentovaných prohlídek můžete také navštívit unikátn
 í experimentální laboratoře Testbedu pro Průmysl 4.0 CIIRC\, ČVUT.\n
 PROGRAM\n10:00 – Začátek konferenční části10:10 – Předávání 
 ocenění10:20 – Prezentace Průzkumu SP ČR 10:35 – Prezentace průz
 kumu NCP 4.0 10:50 – P-D Refractories CZ - Vítěz Ceny za Průmysl 4.0
  Svazu průmyslu a dopravy 202311:10 - Česká spořitelna\, Isolit-Bravo\
 n11:25 - Přestávka\n11:40 – Panelová diskuze – Implementace ve vlas
 tní firmě (Oceněné a úspěšné projekty za rok 2023)● ÚJV Řež
 ● BONATRANS● Linet\n12:40 – Panelová diskuze – Integrátor ● K
 vados● O2 Czech republic● COMTES FHT13:20 – 13:30 - Debata 13:30 - 
 Konec prezentační části i online přenosu13:30 – 14:30 - Komentovan
 á prohlídka Testbedu a robotického baru\nNa konferenci se můžete regi
 strovat zdarma. Kapacita sálu je omezená. Zúčastnit se bude možné i 
 online. V případě dotazů se prosím obraťte na Ondřeje Ševčíka (o
 sevcik@spcr.cz).\n
URL:https://www.spcr.cz/konference-prumysl-40-v-praxi-0
DTSTART:20231212T100000
DTEND:20231212T143000
LOCATION:
END:VEVENT
END:VCALENDAR
