BEGIN:VCALENDAR
PRODID:-//eluceo/ical//2.0/EN
VERSION:2.0
CALSCALE:GREGORIAN
BEGIN:VEVENT
UID:6a57483567fad226c80a3bd08fbc30a8
DTSTAMP:20260423T163252Z
SUMMARY:EIB ELENA Informační Den - Praha
DESCRIPTION:Název akce: EIB ELENA Informační Den - Praha\nURL: https://w
 ww.spcr.cz/eib-elena-informacni-den-praha\nPopis: \n\nDovolujeme si Vám p
 ředat pozvání Evropské investiční banky na informační sektání ke
  grantovému programu ELENA. \nELENA poskytuje technickou pomoc pro rozvo
 j investic do energetické účinnosti a obnovitelné energie v budovách 
 a podporuje udržitelnou městskou dopravu.\nBudete mít možnost sektat s
 e s odborníky\, kteří vám poskytnou praktické rady pro přípravu ús
 pěšného projektu ELENA\, vyměnit si nápady nebo vytvořit partnerstv
 í s vašimi dalšími lokálními kolegy.\nNa akci je potřeba se zaregis
 trovat. Uzávěrka registrace* je 16. listopadu 2023. \n*Dovolujeme si up
 ozornit\, že registrační proces slouží jako přihláška k účasti n
 a akci a její přijetí závisí na dostupné kapacitě míst. V případ
 ě vašich dotazů nebo zájmu o další informace napište na eib-elena@e
 uconf.eu\nDalší informace k dispozici v programu. \n
URL:https://www.spcr.cz/eib-elena-informacni-den-praha
DTSTART:20231123T093000
DTEND:20231123T173000
LOCATION:
END:VEVENT
END:VCALENDAR
