BEGIN:VCALENDAR
PRODID:-//eluceo/ical//2.0/EN
VERSION:2.0
CALSCALE:GREGORIAN
BEGIN:VEVENT
UID:8373ce7ba2c2521120177cd9a119cf2b
DTSTAMP:20260423T162819Z
SUMMARY:ENERGO SUMMIT
DESCRIPTION:Název akce: ENERGO SUMMIT\nURL: https://www.spcr.cz/energo-sum
 mit\nPopis: \n\nZúčastněte se společně s předními odborníky důle
 žitého energetického summitu.\nCílem odborné konference ENERGO SUMMIT
  je podpořit veřejnou debatu ke směřování české energetiky s ohled
 em na existující i budoucí možné problémy\, pomoci k prezentování 
 nezbytných a v řadě i nepopulárních kroků pro občany ČR a přispě
 t k celospolečenské i politické podpoře rozvoje energetiky ČR. Summit
  se uskuteční 23. listopadu 2023 za účasti odborníků\, ředitelů\, 
 jednatelů a členů představenstev firem a svazů i zástupců státní 
 správy. Cílové skupiny: Především TOP MANAGEMENT z oborů výroby\,
  rozvodu a efektivního využití energie\; odborníci z řad energetiky\,
  elektrotechniky\, místní samospráva\, asociace\, svazy\, průmyslové 
 podniky\, ekonomové.Registrace na summit ZDE.PROGRAM SUMMITU10:00 Úvod m
 oderátora\, Přemysl ČechBLOK ISOUČASNÝ STAV ENERGETIKY V ČR S OHLEDE
 M NA POŽADAVKY NAHRADIT DODÁVKY Z RUSKA\, SEK\, GREEN DEAL\, PROBLÉMY A
  PLÁNY 10:00 - 10:15 Dostupná energie - důležitá pro průmysl dnes i 
 v budoucnu\, Bohuslav Čížek\, Svaz průmyslu a dopravy ČR\, ČR10:15 -
  10:30 Jak si ČR poradí s implementací balíčku Fit for 55?\, Pavel Z
 ámyslický\, Ministerstvo životního prostředí\, ČR10:30 - 10:45 Aktu
 ální trendy v programech na podporu OZE a energetických renovací\, Pet
 r Valdman\, Státní fond životního prostředí\, ČR10:45 - 11:00 Akumu
 lace energie a flexibilita: nezbytný předpoklad bezpečného rozvoje OZE
  v ČR\, Jan Fousek\, Asociace AKU - BAT CZ\, ČR11:00 - 11:20 Transformac
 e teplárenství v České republice\, Martin Hájek\, Teplárenské sdru
 žení ČR\, ČR11:20 - 11:40 Regulace v energetice a plány na následuj
 ící období\, Jan Šefránek\, Energetický regulační úřad\, ČRENER
 GETICKÁ BEZPEČNOST ČR\, HLEDÁNÍ NOVÝCH DODAVATELŮ V ZAHRANIČÍ11:4
 0 - 12:00 Zajištění energetické bezpečnosti na cestě k bezemisní en
 ergetice\, Filip Dvořák\, Hospodářská komora ČR\, ČR12:00 - 12:20 M
 etodou EPC k energetické soběstačnosti a bezpečnosti nejen v podnicíc
 h\, Miroslav Marada\, Asociace poskytovatelů energetických služeb\, ČR
 12:20 – 12:30 Diskuse12:30 – 13:10 ObčerstveníBLOK IIAKTUÁLNÍ PROB
 LÉMY NA ENERGETICKÉM TRHU Z POHLEDU DODAVATELŮ ENERGIE I ZÁKAZNÍKŮ 1
 3:10 - 13:30 Cíle energetické tranzice vyvolávají potřebu posílení 
 elektrických sítí\, Richard Vidlička\, Český svaz zaměstnavatelů v
  energetice\, ČR13:30 - 13:50 Projekt dekarbonizace dopravy\, Jiří Pohl
 \, Siemens\, ČRPREZENTACE KONKRÉTNÍCH ŘEŠENÍ PRO ZÁKAZNÍKY\, ZVÝ
 ŠENÍ ENERGETICKÉ EFEKTIVITY VYUŽITÍ ZDROJŮ A DODÁVEK\, ZKUŠENOSTI 
 VELKÝCH SPOTŘEBITELŮ ENERGIE V PRAXI A ÚSPORY13:50 - 14:10 Možnosti f
 inancování projektů v energetice\, Pavel Beran\, Komerční banka\, ČR
 14:10 - 14:30 Řešení pro dobíjení elektromobilů\, Martin Šilar\, Si
 emens\, ČR14:30 - 14:50 Budoucnost kogenerace v moderní energetice\, Luk
 áš Dobeš\, TEDOM\, ČR14:50 - 15:10 Spotem k trvalé flexibilitě. Jak 
 se s přechodem na spotové ceny změnilo chování našich zákazníků\,
  Jan Hicl\, Nano Green\, ČR15:10 – 15:20 Diskuse 15:20 Ukončení summi
 tu Změna programu vyhrazena.\n
URL:https://www.spcr.cz/energo-summit
DTSTART:20231123T000000
DTEND:20231123T235959
LOCATION:
END:VEVENT
END:VCALENDAR
