BEGIN:VCALENDAR
PRODID:-//eluceo/ical//2.0/EN
VERSION:2.0
CALSCALE:GREGORIAN
BEGIN:VEVENT
UID:d12b9c76da610913806f337478cc4123
DTSTAMP:20260423T145024Z
SUMMARY:Minikonference: Analýza dopadů brexitu 
DESCRIPTION:Název akce: Minikonference: Analýza dopadů brexitu \nURL: ht
 tps://www.spcr.cz/minikonference-analyza-dopadu-brexitu\nPopis: \n\nMiniko
 nference: Analýza dopadů vystoupení Spojeného království Velké Brit
 ánie a Severního Irska z EU (brexit) na export a dodavatelské řetězc
 e českých firem\, vliv brexitu na zaměstnanost a další dopady\nÚter
 ý\, 5. prosince 2023 od 10:00 hodin (9:45 – 10:00 registrace)\nAkce je 
 zdarma\, ale podléhá registraci v odkaze: REGISTRACE. Více informací\,
  včetně programu najdete v přiložené pozvánce.\nMinikonference je po
 řádána v rámci aktivit dle §320a písm. a) ZP\n \n
URL:https://www.spcr.cz/minikonference-analyza-dopadu-brexitu
DTSTART:20231205T100000
DTEND:20231205T130000
LOCATION:
END:VEVENT
END:VCALENDAR
