BEGIN:VCALENDAR
PRODID:-//eluceo/ical//2.0/EN
VERSION:2.0
CALSCALE:GREGORIAN
BEGIN:VEVENT
UID:52d3499454c1cfb91ddcef2cda439d79
DTSTAMP:20260423T163117Z
SUMMARY:Poradní sbor OIP Karlovarského kraje „Aktuální poznatky z kon
 trol“
DESCRIPTION:Název akce: Poradní sbor OIP Karlovarského kraje „Aktuáln
 í poznatky z kontrol“\nURL: https://www.spcr.cz/poradni-sbor-oip-karlov
 arskeho-kraje-aktualni-poznatky-z-kontrol\nPopis: \n\nSvaz průmyslu a dop
 ravy ČR si Vás v rámci projektu „Podpora národního\, odvětvového 
 a regionálního sociálního dialogu v ČR“ dovoluje pozvat na akci\nPo
 radní sbor OIP Karlovarského kraje „Aktuální poznatky z kontrol“\n
 9. listopadu 2023\, 9:00 – 12:00 hod.\nZasedací místnost společnosti 
 VODAKVA\, Studentská 328/64\, 360 07 Karlovy Vary \nSetkání s odborník
 y Oblastního Inspektorátu práce pro Plzeňský a Karlovarský kraj. Na 
 tomto setkání se dozvíte aktuální novinky týkající se pracovně-pr
 ávních předpisů\, informace z oblasti kontrol OIP a informace jak k r
 ůzným případům přistupuje OIP během kontrol v praxi. Na setkání j
 e možné také vznést dotazy\, případně otevřít specifický problé
 m z prostředí Vaší firmy a získat tak cenné rady od špičkových od
 borníků.\nPROGRAM\n\nNovinky v právních přepisech (Novela Zákoníku 
 práce z pohledu kontrol OIP)\nZaměstnávání a kontrola cizinců\nAktua
 lity z oblasti BOZP\, vývoj pracovní úrazovosti.\nDiskuse a dotazy na t
 éma zaměstnanost a trh práce s odborníky Oblastního inspektorátu pr
 áce\n\nČASOVÝ HARMONOGRAM \n09:00 – 10:45 1. Blok + diskuse \n10:45 
 – 11:00 Přestávka \n11:00 – 12:00 2. Blok + diskuse \nMODERÁTOR \n\
 nJUDr. Jana Werdanová – vedoucí inspektorka Oblastního inspektorátu 
 práce pro Plzeňský kraj a Karlovarský kraj\nIng. Vilém Schwab – ved
 oucí oddělení BOZP-VTZ\n\nREGISTRACE \n\nNa setkání se prosím přihl
 aste ON-LINE nejpozději do 7. listopadu 2023. \n\nV případě dotazů se
  prosím obraťte na regionální kancelář SP ČR\, Michal Lehký (tel: 
 734393675 nebo na e-mail: mlehky@spcr.cz\, případně na rbartikova@spcr.
 cz).\n
URL:https://www.spcr.cz/poradni-sbor-oip-karlovarskeho-kraje-aktualni-pozna
 tky-z-kontrol
DTSTART:20231109T090000
DTEND:20231109T120000
LOCATION:
END:VEVENT
END:VCALENDAR
