BEGIN:VCALENDAR
PRODID:-//eluceo/ical//2.0/EN
VERSION:2.0
CALSCALE:GREGORIAN
BEGIN:VEVENT
UID:38d311e262921f70922d6956e2d7f2d2
DTSTAMP:20260423T162942Z
SUMMARY:Potenciál pracovní síly – Vybrané sociálně vyloučené skup
 iny
DESCRIPTION:Název akce: Potenciál pracovní síly – Vybrané sociálně
  vyloučené skupiny\nURL: https://www.spcr.cz/potencial-pracovni-sily-vyb
 rane-socialne-vyloucene-skupiny\nPopis: \n\nSvaz průmyslu a dopravy vás 
 zve na kulatý stůl věnovaný skrytému potenciálu pracovní síly v 
 lidech propuštěných z vězení a vyléčených z drogové závislosti.\
 nTento netradičně zaměřený kulatý stůl proběhne 14. listopadu 202
 3 v Praze a přes online připojení.\n\nKde najít takto poznamenané lid
 i\, kteří jsou ochotni a schopni začlenit se zpět do společenského a
  pracovního život?\nJaké jsou výhody a rizika jejich zaměstnávání?
 \nJak s nimi pracovat z pohledu HR?\nZjistili jste\, že některý ze zam
 ěstnanců má problémy s drogami\,... Co teď s tím? Kulatý stůl se z
 aměří i na odhalování závislých osob\, opatření a prevenci na pra
 covišti.\n\nNeváhejte\, přijďte načerpat zajímavé informace a vysle
 chnout si reálné příběhy\, nebo se podělit o ty Vaše. Diskutovat s 
 Vámi budou odborníci z organizací Rubikon a Sananim a zástupci firem.\
 nVíce informací naleznete v pozvánce.\nV případě zájmu se registruj
 te přes registrační formulář nejpozději do 9. listopadu 2023.\nVe
 škeré Vámi uvedené informace v registračním formuláři\, včetně z
 kušeností\, dotazů a podnětů\, slouží pouze potřebám moderátora 
 a nebudou veřejně sdělovány!\nV případě online účasti Vám bude\,
  na e-mail uvedený v registračním formuláři\, nejpozději den před z
 ahájením akce\, zaslán odkaz k připojení.\n
URL:https://www.spcr.cz/potencial-pracovni-sily-vybrane-socialne-vyloucene-
 skupiny
DTSTART:20231114T090000
DTEND:20231114T120000
LOCATION:
END:VEVENT
END:VCALENDAR
